BEGIN:VCALENDAR
VERSION:2.0
PRODID:-//Bhakti Marga Slovensko - ECPv6.15.12.2//NONSGML v1.0//EN
CALSCALE:GREGORIAN
METHOD:PUBLISH
X-WR-CALNAME:Bhakti Marga Slovensko
X-ORIGINAL-URL:https://bhaktimarga.sk
X-WR-CALDESC:Udalosti pre Bhakti Marga Slovensko
REFRESH-INTERVAL;VALUE=DURATION:PT1H
X-Robots-Tag:noindex
X-PUBLISHED-TTL:PT1H
BEGIN:VTIMEZONE
TZID:Europe/Helsinki
BEGIN:DAYLIGHT
TZOFFSETFROM:+0200
TZOFFSETTO:+0300
TZNAME:EEST
DTSTART:20220327T010000
END:DAYLIGHT
BEGIN:STANDARD
TZOFFSETFROM:+0300
TZOFFSETTO:+0200
TZNAME:EET
DTSTART:20221030T010000
END:STANDARD
BEGIN:DAYLIGHT
TZOFFSETFROM:+0200
TZOFFSETTO:+0300
TZNAME:EEST
DTSTART:20230326T010000
END:DAYLIGHT
BEGIN:STANDARD
TZOFFSETFROM:+0300
TZOFFSETTO:+0200
TZNAME:EET
DTSTART:20231029T010000
END:STANDARD
BEGIN:DAYLIGHT
TZOFFSETFROM:+0200
TZOFFSETTO:+0300
TZNAME:EEST
DTSTART:20240331T010000
END:DAYLIGHT
BEGIN:STANDARD
TZOFFSETFROM:+0300
TZOFFSETTO:+0200
TZNAME:EET
DTSTART:20241027T010000
END:STANDARD
END:VTIMEZONE
BEGIN:VEVENT
DTSTART;TZID=Europe/Helsinki:20230325T180000
DTEND;TZID=Europe/Helsinki:20230325T193000
DTSTAMP:20260422T022359
CREATED:20230305T133250Z
LAST-MODIFIED:20230307T201927Z
UID:10000012-1679767200-1679772600@bhaktimarga.sk
SUMMARY:VÉDSKE ČANTOVANIE
DESCRIPTION:Príprava daršanového čantovania pokračuje každú sobotu do odvolania. \nÚroveň 3 – pokročilý \nCena kurzu: Zadarmo s možnosťou dobrovoľného príspevku\nREGISTRAČNÝ FORMULÁR \nViac informácií na ritualy@bhaktimarga.sk alebo na telefónnom čísle 0904 947 805 \nAKO SA PRIPOJÍM K ZOOM ONLINE VIDEOHOVORU? \nAplikáciu Zoom si môžete stiahnuť do telefónu\, tabletu\, notebooku\, aj stolného počítača.\nStiahnite si ju tu: https://zoom.us/download\nKeď dostanete od lektora pozvánku\, uvidíte v nej pripojený odkaz na online stretnutie. Kliknite na odkaz. Ak sa vám nepodarilo stiahnuť si aplikáciu Zoom\, budete vyzvaní k stiahnutiu a spusteniu teraz. Ak už Zoom máte nainštalovaný\, bude potrebné zadať iba heslo z lektorovej pozvánky. V prípade\, že odkaz nefunguje\, zadajte ID miestnosti a následne heslo. \nTu sa dozviete ako si stiahnuť aplikáciu Zoom a ako sa pripojiť na stretnutie.
URL:https://bhaktimarga.sk/udalost/vedske-cantovanie-2/
LOCATION:Zoom – videokonferencia | Ako sa pripojím k zoom videohovoru?
CATEGORIES:Vzdelávanie
ATTACH;FMTTYPE=image/png:https://bhaktimarga.sk/wp-content/uploads/2023/03/Vedske-cantovanie-web-FB-tlgr.png
ORGANIZER;CN="Radhi":MAILTO:ritualy@bhaktimarga.sk
END:VEVENT
BEGIN:VEVENT
DTSTART;TZID=Europe/Helsinki:20230325T100000
DTEND;TZID=Europe/Helsinki:20230325T120000
DTSTAMP:20260422T022359
CREATED:20230402T190457Z
LAST-MODIFIED:20230402T190457Z
UID:10000021-1679738400-1679745600@bhaktimarga.sk
SUMMARY:KURZ MUDIER 1.STUPEŇ
DESCRIPTION:Mudry sú energetické gestá rúk a tela. Ich účelom je prečistenie vašich energetických dráh\, ktoré podporujú váš duchovný rast. Pomáhajú vám tiež byť silnejší a fyzicky v rovnováhe. Každá mudra aktivuje\, prečisťuje a vyvažuje elementy vo vašom tele svojím vlastným spôsobom. Prehlbujú vaše fyzické\, emocionálne a duchovné zdravie a zlepšujú tok energie\, harmonizujú a posilňujú vás vo vašom každodennom živote. \nNa tomto kurze sa naučíte mudry na: \n\nzlepšovanie koncentrácie a pamäte\ndosahovanie duchovných cieľov a odstraňovanie prekážok na ceste\npodporu zdravého srdca\nbezpodmienečné milovanie\nprečisťovanie pľúc\, pomoc pri nespavosti\nrozvíjanie súcitu\nodpúšťanie\nprečisťovanie toku energie\numocňovanie Božích darov\nrozpúšťanie ega a pýchy\n\nSú pre mňa mudry vhodné? \n\nKurzy mudier sú otvorené pre všetkých.\nNie sú žiadne vekové obmedzenia\, mudry môžu praktizovať aj deti.\nKeďže mudry využívajú vaše vlastné telesné energie\, nemajú žiadne zdravotné obmedzenia.\n\nCena kurzu: 25€ \nMáte záujem\, ale nevyhovuje vám čas?  \nAk vám tento dátum nevyhovuje\, prosím\, kontaktujte učiteľa mudier  a dohodnite si náhradný termín. \nRegistračné údaje \nREGISTRAČNÝ FORMULÁR \nKurz cez online videohovor \nTu sa dozviete ako si stiahnuť aplikáciu Zoom a ako sa pripojiť na stretnutie. \nViac informácií na sadhana@bhaktimarga.sk alebo na tel. čísle 0915 092 404.
URL:https://bhaktimarga.sk/udalost/kurz-mudier-1-stupen-2/
LOCATION:Zoom – videokonferencia | Ako sa pripojím k zoom videohovoru?
CATEGORIES:Joga a meditácia
ATTACH;FMTTYPE=image/jpeg:https://bhaktimarga.sk/wp-content/uploads/2023/04/mudry-25.-marec.jpg
ORGANIZER;CN="Avaari":MAILTO:avaari@bhaktimarga.sk
END:VEVENT
BEGIN:VEVENT
DTSTART;TZID=Europe/Helsinki:20230318T180000
DTEND;TZID=Europe/Helsinki:20230318T193000
DTSTAMP:20260422T022359
CREATED:20230305T132634Z
LAST-MODIFIED:20230307T201828Z
UID:10000011-1679162400-1679167800@bhaktimarga.sk
SUMMARY:VÉDSKE ČANTOVANIE
DESCRIPTION:Príprava daršanového čantovania pokračuje každú sobotu do odvolania. \nÚroveň 3 – pokročilý \nCena kurzu: Zadarmo s možnosťou dobrovoľného príspevku\nREGISTRAČNÝ FORMULÁR \nViac informácií na ritualy@bhaktimarga.sk alebo na telefónnom čísle 0904 947 805 \nAKO SA PRIPOJÍM K ZOOM ONLINE VIDEOHOVORU? \nAplikáciu Zoom si môžete stiahnuť do telefónu\, tabletu\, notebooku\, aj stolného počítača.\nStiahnite si ju tu: https://zoom.us/download\nKeď dostanete od lektora pozvánku\, uvidíte v nej pripojený odkaz na online stretnutie. Kliknite na odkaz. Ak sa vám nepodarilo stiahnuť si aplikáciu Zoom\, budete vyzvaní k stiahnutiu a spusteniu teraz. Ak už Zoom máte nainštalovaný\, bude potrebné zadať iba heslo z lektorovej pozvánky. V prípade\, že odkaz nefunguje\, zadajte ID miestnosti a následne heslo. \nTu sa dozviete ako si stiahnuť aplikáciu Zoom a ako sa pripojiť na stretnutie.
URL:https://bhaktimarga.sk/udalost/vedske-cantovanie/
LOCATION:Zoom – videokonferencia | Ako sa pripojím k zoom videohovoru?
CATEGORIES:Vzdelávanie
ATTACH;FMTTYPE=image/png:https://bhaktimarga.sk/wp-content/uploads/2023/03/Vedske-cantovanie-web-FB-tlgr.png
ORGANIZER;CN="Radhi":MAILTO:ritualy@bhaktimarga.sk
END:VEVENT
BEGIN:VEVENT
DTSTART;TZID=Europe/Helsinki:20230318T100000
DTEND;TZID=Europe/Helsinki:20230318T120000
DTSTAMP:20260422T022359
CREATED:20230228T202140Z
LAST-MODIFIED:20230228T202140Z
UID:10000010-1679133600-1679140800@bhaktimarga.sk
SUMMARY:KURZ MUDIER 2. STUPEŇ
DESCRIPTION:Mudry sú energetické gestá rúk a tela. Ich účelom je prečistenie vašich energetických dráh\, ktoré podporujú váš duchovný rast. Pomáhajú vám tiež byť silnejší a fyzicky v rovnováhe. Každá mudra aktivuje\, prečisťuje a vyvažuje elementy vo vašom tele svojím vlastným spôsobom. Prehlbujú vaše fyzické\, emocionálne a duchovné zdravie a zlepšujú tok energie\, harmonizujú a posilňujú vás vo vašom každodennom živote. \nNa tomto kurze sa naučíte mudry na: \n\nzlepšovanie koncentrácie a pamäte\ndosahovanie duchovných cieľov a odstraňovanie prekážok na ceste\npodporu zdravého srdca\nbezpodmienečné milovanie\nprečisťovanie pľúc\, pomoc pri nespavosti\nrozvíjanie súcitu\nodpúšťanie\nprečisťovanie toku energie\numocňovanie Božích darov\nrozpúšťanie ega a pýchy\n\nSú pre mňa mudry vhodné? \n\nKurzy mudier sú otvorené pre všetkých.\nNie sú žiadne vekové obmedzenia\, mudry môžu praktizovať aj deti.\nKeďže mudry využívajú vaše vlastné telesné energie\, nemajú žiadne zdravotné obmedzenia.\n\nCena kurzu: 25€ \nMáte záujem\, ale nevyhovuje vám čas?  \nAk vám tento dátum nevyhovuje\, prosím\, kontaktujte učiteľa mudier  a dohodnite si náhradný termín. \nRegistračné údaje \nREGISTRAČNÝ FORMULÁR \nKurz cez online videohovor \nTu sa dozviete ako si stiahnuť aplikáciu Zoom a ako sa pripojiť na stretnutie. \nViac informácií na sadhana@bhaktimarga.sk alebo na tel. čísle 0915 092 404.
URL:https://bhaktimarga.sk/udalost/kurz-mudier-2-stupen/
LOCATION:Zoom – videokonferencia | Ako sa pripojím k zoom videohovoru?
CATEGORIES:Joga a meditácia
ATTACH;FMTTYPE=image/jpeg:https://bhaktimarga.sk/wp-content/uploads/2023/02/Kurz-mudry-2.jpg
ORGANIZER;CN="Avaari":MAILTO:avaari@bhaktimarga.sk
END:VEVENT
BEGIN:VEVENT
DTSTART;TZID=Europe/Helsinki:20230311T180000
DTEND;TZID=Europe/Helsinki:20230311T200000
DTSTAMP:20260422T022359
CREATED:20230218T121741Z
LAST-MODIFIED:20230218T160210Z
UID:10000006-1678557600-1678564800@bhaktimarga.sk
SUMMARY:VÉDSKE ČANTOVANIE - ŠRÍ VIŠNUSAHASRANÁMA
DESCRIPTION:Pozývame všetkých milovníkov čantovania na zhrnutie cyklu védskeho čantovania. Počas tohto kurzu sa budeme venovať Šrí Višnusahasranáma. Doladíme čantovanie a zodpovieme vaše prípadné otázky. Cieľom tohto cyklu je priblížiť čantovanie\, ktoré môžete počuť na daršanoch a naučiť sa ho. Užite si tieto poklady védskeho čantovania a nalaďte sa na ich vlnu. \nÚroveň 3 – pokročilý \nCena kurzu: Zadarmo s možnosťou dobrovoľného príspevku\nREGISTRAČNÝ FORMULÁR \nViac informácií na ritualy@bhaktimarga.sk alebo na telefónnom čísle 0904 947 805 \nAKO SA PRIPOJÍM K ZOOM ONLINE VIDEOHOVORU? \nAplikáciu Zoom si môžete stiahnuť do telefónu\, tabletu\, notebooku\, aj stolného počítača.\nStiahnite si ju tu: https://zoom.us/download\nKeď dostanete od lektora pozvánku\, uvidíte v nej pripojený odkaz na online stretnutie. Kliknite na odkaz. Ak sa vám nepodarilo stiahnuť si aplikáciu Zoom\, budete vyzvaní k stiahnutiu a spusteniu teraz. Ak už Zoom máte nainštalovaný\, bude potrebné zadať iba heslo z lektorovej pozvánky. V prípade\, že odkaz nefunguje\, zadajte ID miestnosti a následne heslo. \nTu sa dozviete ako si stiahnuť aplikáciu Zoom a ako sa pripojiť na stretnutie.
URL:https://bhaktimarga.sk/udalost/zoom-vedske-cantovanie-sri-visnusahasranama/
LOCATION:Zoom – videokonferencia | Ako sa pripojím k zoom videohovoru?
CATEGORIES:Vzdelávanie
ATTACH;FMTTYPE=image/png:https://bhaktimarga.sk/wp-content/uploads/2023/02/Vedske-cantovanie-Vishnusahasranama.png
ORGANIZER;CN="Radhi":MAILTO:ritualy@bhaktimarga.sk
END:VEVENT
BEGIN:VEVENT
DTSTART;TZID=Europe/Helsinki:20230311T100000
DTEND;TZID=Europe/Helsinki:20230311T120000
DTSTAMP:20260422T022359
CREATED:20230228T193802Z
LAST-MODIFIED:20230228T201640Z
UID:10000009-1678528800-1678536000@bhaktimarga.sk
SUMMARY:KURZ MUDIER 1. STUPEŇ
DESCRIPTION:Mudry sú energetické gestá rúk a tela. Ich účelom je prečistenie vašich energetických dráh\, ktoré podporujú váš duchovný rast. Pomáhajú vám tiež byť silnejší a fyzicky v rovnováhe. Každá mudra aktivuje\, prečisťuje a vyvažuje elementy vo vašom tele svojím vlastným spôsobom. Prehlbujú vaše fyzické\, emocionálne a duchovné zdravie a zlepšujú tok energie\, harmonizujú a posilňujú vás vo vašom každodennom živote. \nNa tomto kurze sa naučíte mudry na: \n\nzlepšovanie koncentrácie a pamäte\ndosahovanie duchovných cieľov a odstraňovanie prekážok na ceste\npodporu zdravého srdca\nbezpodmienečné milovanie\nprečisťovanie pľúc\, pomoc pri nespavosti\nrozvíjanie súcitu\nodpúšťanie\nprečisťovanie toku energie\numocňovanie Božích darov\nrozpúšťanie ega a pýchy\n\nSú pre mňa mudry vhodné? \n\nKurzy mudier sú otvorené pre všetkých.\nNie sú žiadne vekové obmedzenia\, mudry môžu praktizovať aj deti.\nKeďže mudry využívajú vaše vlastné telesné energie\, nemajú žiadne zdravotné obmedzenia.\n\nCena kurzu: 25€ \nMáte záujem\, ale nevyhovuje vám čas?  \nAk vám tento dátum nevyhovuje\, prosím\, kontaktujte učiteľa mudier  a dohodnite si náhradný termín. \nRegistračné údaje \nREGISTRAČNÝ FORMULÁR \nKurz cez online videohovor \nTu sa dozviete ako si stiahnuť aplikáciu Zoom a ako sa pripojiť na stretnutie. \nViac informácií na sadhana@bhaktimarga.sk alebo na tel. čísle 0915 092 404.
URL:https://bhaktimarga.sk/udalost/kurz-mudier-1-stupen/
LOCATION:Zoom – videokonferencia | Ako sa pripojím k zoom videohovoru?
CATEGORIES:Joga a meditácia
ATTACH;FMTTYPE=image/jpeg:https://bhaktimarga.sk/wp-content/uploads/2023/02/Kurz-mudry-1.jpg
ORGANIZER;CN="Avaari":MAILTO:avaari@bhaktimarga.sk
END:VEVENT
BEGIN:VEVENT
DTSTART;TZID=Europe/Helsinki:20230304T180000
DTEND;TZID=Europe/Helsinki:20230304T200000
DTSTAMP:20260422T022359
CREATED:20230218T121324Z
LAST-MODIFIED:20230218T160148Z
UID:10000005-1677952800-1677960000@bhaktimarga.sk
SUMMARY:VÉDSKE ČANTOVANIE - PAÑCA-SÚKTAM
DESCRIPTION:Pozývame všetkých milovníkov čantovania na zhrnutie cyklu védskeho čantovania. Počas tohto kurzu sa budeme venovať Paňča-súktamu. Doladíme čantovanie a zodpovieme vaše prípadné otázky. Cieľom tohto cyklu je priblížiť čantovanie\, ktoré môžete počuť na daršanoch a naučiť sa ho. Užite si tieto poklady védskeho čantovania a nalaďte sa na ich vlnu. \nÚroveň 3 – pokročilý \nCena kurzu: Zadarmo s možnosťou dobrovoľného príspevku\nREGISTRAČNÝ FORMULÁR \nViac informácií na ritualy@bhaktimarga.sk alebo na telefónnom čísle 0904 947 805 \nAKO SA PRIPOJÍM K ZOOM ONLINE VIDEOHOVORU? \nAplikáciu Zoom si môžete stiahnuť do telefónu\, tabletu\, notebooku\, aj stolného počítača.\nStiahnite si ju tu: https://zoom.us/download\nKeď dostanete od lektora pozvánku\, uvidíte v nej pripojený odkaz na online stretnutie. Kliknite na odkaz. Ak sa vám nepodarilo stiahnuť si aplikáciu Zoom\, budete vyzvaní k stiahnutiu a spusteniu teraz. Ak už Zoom máte nainštalovaný\, bude potrebné zadať iba heslo z lektorovej pozvánky. V prípade\, že odkaz nefunguje\, zadajte ID miestnosti a následne heslo. \nTu sa dozviete ako si stiahnuť aplikáciu Zoom a ako sa pripojiť na stretnutie.
URL:https://bhaktimarga.sk/udalost/zoom-vedske-cantovanie-panca-suktam/
LOCATION:Zoom – videokonferencia | Ako sa pripojím k zoom videohovoru?
CATEGORIES:Vzdelávanie
ATTACH;FMTTYPE=image/png:https://bhaktimarga.sk/wp-content/uploads/2023/02/Vedske-cantovanie-Panca-suktam.png
ORGANIZER;CN="Radhi":MAILTO:ritualy@bhaktimarga.sk
END:VEVENT
BEGIN:VEVENT
DTSTART;TZID=Europe/Helsinki:20230304T120000
DTEND;TZID=Europe/Helsinki:20230305T140000
DTSTAMP:20260422T022359
CREATED:20230222T091446Z
LAST-MODIFIED:20230224T230449Z
UID:10000008-1677931200-1678024800@bhaktimarga.sk
SUMMARY:KURZ ATMA KRIYA YOGY
DESCRIPTION:Atma Kriya Yoga je silný súbor techník\, ktoré vám pomôžu rýchlo napredovať na vašej duchovnej ceste. Iniciácia\, šaktipát\, je dôvodom\, prečo je v súčasnosti najsilnejším dostupným druhom jogy. Tieto cvičenia vám poskytnú voľnosť a flexibilitu na vytvorenie každodennej praxe dokonale prispôsobenej vášmu životnému štýlu. \nNa kurze sa naučíte tieto techniky:\n\nDžapa – čantovanie prastarej sanskrtskej modlitby (mantry) naladí celú vašu bytosť na jej silné vibrácie a umožní prebudenie božských kvalít.\nMeditačné techniky – koncentrácia a sústredenie vám pomôžu zaviesť sebauvedomovanie do vašich každodenných činností\, aby ste mohli transcendovať dualitu ľudskej existencie.\nJoga zvuku – počúvanie symfónie vnútorných mystických zvukov vychádzajúcich zo srdcovej čakry posilní vašu intuíciu.\nOM Chanting – skupinové čantovanie vytvorí harmóniu\, pokoj a mier pre vás\, ostatných a okolie.\nPránájáma (dychové cvičenia) – pozorovanie a ovládanie dychu nastolí fyzickú a energetickú rovnováhu.\nÁsany – päť fyzických jogových pozícií podporí vašu meditačnú prax\, posilní imunitný systém a zvýši fyzickú vitalitu.\nMudry – joga prstov zjednotí energiu vášho tela\, aby ste mohli dosiahnuť svoj duchovný cieľ.\nHlavná krijá – táto čakrová meditácia vám pomôže zvyšovať vaše vedomie\, zjednocovať telo a dušu a spaľovať jeden rok karmy pri každom nádychu či výdychu.\nOchranný štít – vyzdvihnutie vibrácie energetických centier vás ochráni pred negativitou a dovolí\, aby cez vás žiarilo viac Božieho svetla.\n9 foriem bhakti – každá technika rozvíja rôzne formy bhakti – lásky k Bohu – privedie vás bližšie k realizácii.\n\nSúčasťou kurzu je:\n\nIniciácia – šaktipát\nAtma Kriya Yoga študijný manuál s presnými pokynmi a obrázkami každej techniky\nCertifikát\n\nCena kurzu: 199 €\nREGISTRAČNÝ FORMULÁR \nViac informácií na sadhana@bhaktimarga.sk alebo na čísle 0915 092 404. \nJE PRE MŇA ATMA KRIYA YOGA VHODNÁ?\n\nNa to\, aby ste sa mohli začať učiť a praktizovať Atma Kriya Yogu\, musíte mať viac ako 16 rokov.\nCvičenia zahŕňajú niekoľko fyzických jogových pozícií. Ak máte nejaké fyzické zranenia alebo obmedzenia\, prosím\, konzultujte to s vaším lekárom\, aby ste sa uistili\, že môžete bez obáv cvičiť jogu. Váš učiteľ Atma Kriya Yogy vám pomôže s prispôsobením cvičenia.\nAk máte srdcové či mentálne problémy\, prosím\, kontaktujte kvalifikovaného učiteľa\, aby zistil\, či je pre vás vhodné cvičiť. Rovnako urobte\, ak ste práve v období tehotenstva.\nAtma Kriya Yoga môže očisťovať rôznymi spôsobmi: fyzicky\, emocionálne a duchovne. Je dôležité to vedieť a byť ochotný urobiť skutočné zmeny vo svojom živote.\n\nKEĎ STE INICIOVANÍ DO ATMA KRIYA YOGY A DOSTALI STE ŠAKTIPÁT\, VO VAŠOM VNÚTRI SA AKTIVUJE INÝ KANÁL. TENTO KANÁL JE MILOSŤ A POŽEHNANIE VŠETKÝCH GURUOV\, MUDRCOV A SVÄTCOV Z LÍNIE\, KTORÉ PRÚDIA Z MAJSTRA NA ŽIAKA ALEBO Z MAJSTRA NA UČITEĽA A POTOM Z UČITEĽA NA ŽIAKA. \n– Paramahamsa Šrí Svámí Vishwananda \nMáte záujem\, ale nevyhovuje vám čas?\n\nŽiaden problém. Ak vám tento dátum a čas nevyhovuje\, kontaktujte Atma Kriya Yoga učiteľa a dohodnite si náhradný termín. Učitelia majú možnosť učiť všetky techniky počas jedného stretnutia alebo rozdeliť učenie na niekoľko týždňov\, čo poskytne viac času na cvičenie. Radi s vami naplánujú kurz\, ktorý vám bude najviac vyhovovať. \nPobyty a cvičenia\nSpoločné cvičenie v skupine zosilňuje účinky cvičenia a buduje pocit spolupatričnosti ku komunite s rovnakými záujmami. V niektorých mestách sa organizujú takéto pravidelné cvičenia alebo aj celoslovenské pobyty\, počas ktorých si môžete objasniť techniky a upevniť a udžať svoju prax po dlhú dobu. Kontaktujte učiteľa Atma Kriya Yogy vo vašom okolí\, ktorý vám povie\, čo je práve k dispozícií.
URL:https://bhaktimarga.sk/udalost/kurz-atma-kriya-yogy/
LOCATION:Košice – Barca\, Borodáčova 5\, Borodáčova 5\, Košice
CATEGORIES:Joga a meditácia
ATTACH;FMTTYPE=image/jpeg:https://bhaktimarga.sk/wp-content/uploads/2023/02/kurz-AKY-4.-5.-MAREC-zmena.jpg
ORGANIZER;CN="Avaari":MAILTO:avaari@bhaktimarga.sk
END:VEVENT
BEGIN:VEVENT
DTSTART;TZID=Europe/Helsinki:20230226T100000
DTEND;TZID=Europe/Helsinki:20230226T200000
DTSTAMP:20260422T022359
CREATED:20230219T203900Z
LAST-MODIFIED:20230220T211836Z
UID:10000007-1677405600-1677441600@bhaktimarga.sk
SUMMARY:OM CHANTING MARATÓN
DESCRIPTION:Srdečne vás pozývame na celoslovenský OM CHANTING 10 HODINOVÝ MARATÓN vo vašom meste alebo okolí\, ktorý sa uskutoční 26. 2. 2023. V tento deň sa od rána do večera rozoznie Slovenskom mierumilovná vibrácia zvuku óm\, so zámerom podporiť ľudstvo a Matku Zem. \nChcete sa pridať a hľadáte kruh vo svojom okolí? Zoznam jednotlivých miest s telefónnym číslom na organizátora\, ktorý vám rád zdelí bližšie informácie a miesto konania\, nájdete tu: \nTRNAVA – 10.00 – 11.00 hod. – t.č. 0948503403 \nHORŠA – 11.00 – 12.00 hod. – t.č. 0948109927 \nZELENEČ – 12.00 -13.00 hod. – t.č. 0905251116 \nBRATISLAVA – 13.00 – 14.00 hod.- t.č. 0918385413 \nNITRA – 14.00 – 15.00 hod. – t.č. 0918940370 \nKOŠICE – 15.00 – 16.00 hod. \nBRATISLAVA – 16.00 – 17.00 hod. – t.č. 0907172772 \nLEVICE – 17.00 – 18.00 hod. – t.č. 0940773203 \nMALACKY – 17.00 – 18.00 hod. – t.č. 0903110111 \nSKALICA – 18.00 – 19.00 hod. – t.č. 0949193070 \nKOŠICE – 19.00 – 20.00 hod. – t.č. 0908699259 \nTešíme sa na vás 🙏🏼❤️🌏
URL:https://bhaktimarga.sk/udalost/om-chanting-maraton-2/
CATEGORIES:Joga a meditácia
ATTACH;FMTTYPE=image/jpeg:https://bhaktimarga.sk/wp-content/uploads/2023/02/26-2-omchanting-maraton.jpg
END:VEVENT
BEGIN:VEVENT
DTSTART;TZID=Europe/Helsinki:20230225T180000
DTEND;TZID=Europe/Helsinki:20230225T200000
DTSTAMP:20260422T022359
CREATED:20230218T120146Z
LAST-MODIFIED:20230218T160105Z
UID:10000004-1677348000-1677355200@bhaktimarga.sk
SUMMARY:VÉDSKE ČANTOVANIE - ŠRÍ VIŠNUSAHASRANÁMA (3. ČASŤ Z 3)
DESCRIPTION:Pozývame všetkých milovníkov čantovania na nový cyklus védskeho čantovania. Táto séria kurzov obsahuje Paňča-súktam a Šrí Višnusahasranáma. Cieľom tohto cyklu je priblížiť čantovanie\, ktoré môžete počuť na daršanoch a naučiť sa ho. Užite si tieto poklady védskeho čantovania a nalaďte sa na ich vlnu. \nÚroveň 3 – pokročilý \nCena kurzu: Zadarmo s možnosťou dobrovoľného príspevku\nREGISTRAČNÝ FORMULÁR \nViac informácií na ritualy@bhaktimarga.sk alebo na telefónnom čísle 0904 947 805 \nAKO SA PRIPOJÍM K ZOOM ONLINE VIDEOHOVORU? \nAplikáciu Zoom si môžete stiahnuť do telefónu\, tabletu\, notebooku\, aj stolného počítača.\nStiahnite si ju tu: https://zoom.us/download\nKeď dostanete od lektora pozvánku\, uvidíte v nej pripojený odkaz na online stretnutie. Kliknite na odkaz. Ak sa vám nepodarilo stiahnuť si aplikáciu Zoom\, budete vyzvaní k stiahnutiu a spusteniu teraz. Ak už Zoom máte nainštalovaný\, bude potrebné zadať iba heslo z lektorovej pozvánky. V prípade\, že odkaz nefunguje\, zadajte ID miestnosti a následne heslo. \nTu sa dozviete ako si stiahnuť aplikáciu Zoom a ako sa pripojiť na stretnutie.
URL:https://bhaktimarga.sk/udalost/zoom-vedske-cantovanie-sri-visnusahasranama-3-cast-z-3/
LOCATION:Zoom – videokonferencia | Ako sa pripojím k zoom videohovoru?
CATEGORIES:Vzdelávanie
ATTACH;FMTTYPE=image/png:https://bhaktimarga.sk/wp-content/uploads/2022/12/Vedske-cantovanie-web-FB-tlgr-7.png
ORGANIZER;CN="Radhi":MAILTO:ritualy@bhaktimarga.sk
END:VEVENT
BEGIN:VEVENT
DTSTART;TZID=Europe/Helsinki:20230218T180000
DTEND;TZID=Europe/Helsinki:20230218T200000
DTSTAMP:20260422T022359
CREATED:20230218T115220Z
LAST-MODIFIED:20230218T160044Z
UID:10000003-1676743200-1676750400@bhaktimarga.sk
SUMMARY:VÉDSKE ČANTOVANIE - ŠRÍ VIŠNUSAHASRANÁMA (2. ČASŤ Z 3)
DESCRIPTION:Pozývame všetkých milovníkov čantovania na nový cyklus védskeho čantovania. Táto séria kurzov obsahuje Paňča-súktam a Šrí Višnusahasranáma. Cieľom tohto cyklu je priblížiť čantovanie\, ktoré môžete počuť na daršanoch a naučiť sa ho. Užite si tieto poklady védskeho čantovania a nalaďte sa na ich vlnu. \nÚroveň 3 – pokročilý \nCena kurzu: Zadarmo s možnosťou dobrovoľného príspevku\nREGISTRAČNÝ FORMULÁR \nViac informácií na ritualy@bhaktimarga.sk alebo na telefónnom čísle 0904 947 805 \nAKO SA PRIPOJÍM K ZOOM ONLINE VIDEOHOVORU? \nAplikáciu Zoom si môžete stiahnuť do telefónu\, tabletu\, notebooku\, aj stolného počítača.\nStiahnite si ju tu: https://zoom.us/download\nKeď dostanete od lektora pozvánku\, uvidíte v nej pripojený odkaz na online stretnutie. Kliknite na odkaz. Ak sa vám nepodarilo stiahnuť si aplikáciu Zoom\, budete vyzvaní k stiahnutiu a spusteniu teraz. Ak už Zoom máte nainštalovaný\, bude potrebné zadať iba heslo z lektorovej pozvánky. V prípade\, že odkaz nefunguje\, zadajte ID miestnosti a následne heslo. \nTu sa dozviete ako si stiahnuť aplikáciu Zoom a ako sa pripojiť na stretnutie.
URL:https://bhaktimarga.sk/udalost/zoom-vedske-cantovanie-sri-visnusahasranama-2-cast-z-3/
LOCATION:Zoom – videokonferencia | Ako sa pripojím k zoom videohovoru?
CATEGORIES:Vzdelávanie
ATTACH;FMTTYPE=image/png:https://bhaktimarga.sk/wp-content/uploads/2022/12/Vedske-cantovanie-web-FB-tlgr-6.png
ORGANIZER;CN="Radhi":MAILTO:ritualy@bhaktimarga.sk
END:VEVENT
BEGIN:VEVENT
DTSTART;TZID=Europe/Helsinki:20230218T100000
DTEND;TZID=Europe/Helsinki:20230219T130000
DTSTAMP:20260422T022359
CREATED:20230218T113307Z
LAST-MODIFIED:20230218T114313Z
UID:10000002-1676714400-1676811600@bhaktimarga.sk
SUMMARY:KURZ ATMA KRIYA YOGY
DESCRIPTION:Atma Kriya Yoga je silný súbor techník\, ktoré vám pomôžu rýchlo napredovať na vašej duchovnej ceste. Iniciácia\, šaktipát\, je dôvodom\, prečo je v súčasnosti najsilnejším dostupným druhom jogy. Tieto cvičenia vám poskytnú voľnosť a flexibilitu na vytvorenie každodennej praxe dokonale prispôsobenej vášmu životnému štýlu. \nNa kurze sa naučíte tieto techniky:\n\nDžapa – čantovanie prastarej sanskrtskej modlitby (mantry) naladí celú vašu bytosť na jej silné vibrácie a umožní prebudenie božských kvalít.\nMeditačné techniky – koncentrácia a sústredenie vám pomôžu zaviesť sebauvedomovanie do vašich každodenných činností\, aby ste mohli transcendovať dualitu ľudskej existencie.\nJoga zvuku – počúvanie symfónie vnútorných mystických zvukov vychádzajúcich zo srdcovej čakry posilní vašu intuíciu.\nOM Chanting – skupinové čantovanie vytvorí harmóniu\, pokoj a mier pre vás\, ostatných a okolie.\nPránájáma (dychové cvičenia) – pozorovanie a ovládanie dychu nastolí fyzickú a energetickú rovnováhu.\nÁsany – päť fyzických jogových pozícií podporí vašu meditačnú prax\, posilní imunitný systém a zvýši fyzickú vitalitu.\nMudry – joga prstov zjednotí energiu vášho tela\, aby ste mohli dosiahnuť svoj duchovný cieľ.\nHlavná krijá – táto čakrová meditácia vám pomôže zvyšovať vaše vedomie\, zjednocovať telo a dušu a spaľovať jeden rok karmy pri každom nádychu či výdychu.\nOchranný štít – vyzdvihnutie vibrácie energetických centier vás ochráni pred negativitou a dovolí\, aby cez vás žiarilo viac Božieho svetla.\n9 foriem bhakti – každá technika rozvíja rôzne formy bhakti – lásky k Bohu – privedie vás bližšie k realizácii.\n\nSúčasťou kurzu je:\n\nIniciácia – šaktipát\nAtma Kriya Yoga študijný manuál s presnými pokynmi a obrázkami každej techniky\nCertifikát\n\nCena kurzu: 199 €\nRegistrácia je nutná na sadhana@bhaktimarga.sk alebo na čísle 0915 092 404. \nJE PRE MŇA ATMA KRIYA YOGA VHODNÁ?\n\nNa to\, aby ste sa mohli začať učiť a praktizovať Atma Kriya Yogu\, musíte mať viac ako 16 rokov.\nCvičenia zahŕňajú niekoľko fyzických jogových pozícií. Ak máte nejaké fyzické zranenia alebo obmedzenia\, prosím\, konzultujte to s vaším lekárom\, aby ste sa uistili\, že môžete bez obáv cvičiť jogu. Váš učiteľ Atma Kriya Yogy vám pomôže s prispôsobením cvičenia.\nAk máte srdcové či mentálne problémy\, prosím\, kontaktujte kvalifikovaného učiteľa\, aby zistil\, či je pre vás vhodné cvičiť. Rovnako urobte\, ak ste práve v období tehotenstva.\nAtma Kriya Yoga môže očisťovať rôznymi spôsobmi: fyzicky\, emocionálne a duchovne. Je dôležité to vedieť a byť ochotný urobiť skutočné zmeny vo svojom živote.\n\nKEĎ STE INICIOVANÍ DO ATMA KRIYA YOGY A DOSTALI STE ŠAKTIPÁT\, VO VAŠOM VNÚTRI SA AKTIVUJE INÝ KANÁL. TENTO KANÁL JE MILOSŤ A POŽEHNANIE VŠETKÝCH GURUOV\, MUDRCOV A SVÄTCOV Z LÍNIE\, KTORÉ PRÚDIA Z MAJSTRA NA ŽIAKA ALEBO Z MAJSTRA NA UČITEĽA A POTOM Z UČITEĽA NA ŽIAKA. \n– Paramahamsa Šrí Svámí Vishwananda \nMáte záujem\, ale nevyhovuje vám čas?\n\nŽiaden problém. Ak vám tento dátum a čas nevyhovuje\, kontaktujte Atma Kriya Yoga učiteľa a dohodnite si náhradný termín. Učitelia majú možnosť učiť všetky techniky počas jedného stretnutia alebo rozdeliť učenie na niekoľko týždňov\, čo poskytne viac času na cvičenie. Radi s vami naplánujú kurz\, ktorý vám bude najviac vyhovovať. \nPobyty a cvičenia\nSpoločné cvičenie v skupine zosilňuje účinky cvičenia a buduje pocit spolupatričnosti ku komunite s rovnakými záujmami. V niektorých mestách sa organizujú takéto pravidelné cvičenia alebo aj celoslovenské pobyty\, počas ktorých si môžete objasniť techniky a upevniť a udžať svoju prax po dlhú dobu. Kontaktujte učiteľa Atma Kriya Yogy vo vašom okolí\, ktorý vám povie\, čo je práve k dispozícií.
URL:https://bhaktimarga.sk/udalost/kurz-atma-kriya-yogy-2/
LOCATION:Lotus Joga\, Kuzmányho 835/4\, Bratislava
CATEGORIES:Joga a meditácia
ATTACH;FMTTYPE=image/jpeg:https://bhaktimarga.sk/wp-content/uploads/2023/01/AKY-18-19.jpg
ORGANIZER;CN="Avaari":MAILTO:avaari@bhaktimarga.sk
END:VEVENT
END:VCALENDAR