BEGIN:VCALENDAR
VERSION:2.0
PRODID:-//Bhakti Marga Slovensko - ECPv6.15.12.2//NONSGML v1.0//EN
CALSCALE:GREGORIAN
METHOD:PUBLISH
X-WR-CALNAME:Bhakti Marga Slovensko
X-ORIGINAL-URL:https://bhaktimarga.sk
X-WR-CALDESC:Udalosti pre Bhakti Marga Slovensko
REFRESH-INTERVAL;VALUE=DURATION:PT1H
X-Robots-Tag:noindex
X-PUBLISHED-TTL:PT1H
BEGIN:VTIMEZONE
TZID:Europe/Bratislava
BEGIN:DAYLIGHT
TZOFFSETFROM:+0100
TZOFFSETTO:+0200
TZNAME:CEST
DTSTART:20250330T010000
END:DAYLIGHT
BEGIN:STANDARD
TZOFFSETFROM:+0200
TZOFFSETTO:+0100
TZNAME:CET
DTSTART:20251026T010000
END:STANDARD
BEGIN:DAYLIGHT
TZOFFSETFROM:+0100
TZOFFSETTO:+0200
TZNAME:CEST
DTSTART:20260329T010000
END:DAYLIGHT
BEGIN:STANDARD
TZOFFSETFROM:+0200
TZOFFSETTO:+0100
TZNAME:CET
DTSTART:20261025T010000
END:STANDARD
BEGIN:DAYLIGHT
TZOFFSETFROM:+0100
TZOFFSETTO:+0200
TZNAME:CEST
DTSTART:20270328T010000
END:DAYLIGHT
BEGIN:STANDARD
TZOFFSETFROM:+0200
TZOFFSETTO:+0100
TZNAME:CET
DTSTART:20271031T010000
END:STANDARD
END:VTIMEZONE
BEGIN:VEVENT
DTSTART;TZID=Europe/Bratislava:20260429T170000
DTEND;TZID=Europe/Bratislava:20260429T210000
DTSTAMP:20260421T203228
CREATED:20260419T092013Z
LAST-MODIFIED:20260421T152059Z
UID:10001043-1777482000-1777496400@bhaktimarga.sk
SUMMARY:Mapa k vnútornému naplneniu s Rišim Amara Nimai Dāsom Košice
DESCRIPTION:Pozývame vás na interaktívny workshop s Rišim Amara Nimai Dásom. \nTādātmya Vedanta\nNa tomto workshope sa pozrieme na to\, ako je filozofia prirodzenou súčasťou našej duchovnej cesty – nie ako teória\, ale ako živý nástroj pre každodenný život. \nSpoločne objavíme\, ako nám správne pochopenie filozofie pomáha:\n– ukotviť sa v sebe\n– lepšie porozumieť vlastným emóciám a mysli\n– rozvíjať vedomie a vnútornú stabilitu \nRiši Amara Nimai Dás nás prevedie kľúčovými princípmi\, ktoré nám pomôžu nielen pochopiť\, ale aj skutočne prežívať duchovnú cestu hlbšie a vedomejšie. \nTento workshop je pozvaním spomaliť\, nazrieť hlbšie do seba a objaviť múdrosť\, ktorá nás môže sprevádzať v každom okamihu života. \nVaišnava v modernom svete\nAko žiť duchovný život uprostred každodenných povinností\, práce a vzťahov? Ako si zachovať pokoj\, oddanosť a jasnú myseľ aj v rýchlom tempe dnešnej doby? \nPozývame vás na stretnutie\, kde sa spolu pozrieme na to\, čo znamená byť vaišnavom v modernom svete – s nohami pevne na zemi a srdcom obráteným k Bohu. \nČo nás čaká:\n– sila a podpora sanghy\n– budovanie správneho nastavenia mysle pre každodenný život\n– zdieľanie skúseností Rišiho a brahmačáriho\, inšpirácia a vnútorné posilnenie \nProgram:\n17:00  Zvítanie\n17:30 – 19:00 Tādātmya Vedanta – najdôležitejšie poznania v praxi\n19:00 – 19:30 Prestávka/Kírtan\n19:30 – 21:00 Identita Vaišnavu – interaktívny workshop \nPríďte načerpať pokoj\, inšpiráciu a prehĺbiť svoje spojenie s Bohom s Rišim Amara Nimai Dásom a brahmačárim Damódaránandom. \nRišiho Amara Nimai Dása a brahmačárího Damódaránandu môžete stretnúť v týchto mestách: \n29. apríla Košice\n30. apríla Prešov\n1. mája Košice\, Levice\n2. mája Biely Kostol\n3. mája Holíč\, Bratislava
URL:https://bhaktimarga.sk/udalost/mapa-k-vnutornemu-naplneniu-kosice/
LOCATION:EKOLOR\, Južná trieda 82\, Košice\, 040 17\, Slovenská republika
CATEGORIES:Sangha
ATTACH;FMTTYPE=image/png:https://bhaktimarga.sk/wp-content/uploads/2026/04/260429_-MapaKVnutornemuNaplneniu_SLD_ftw.png
ORGANIZER;CN="Chandrakaladasi":MAILTO:chandrakaladasi@bhaktimarga.sk
END:VEVENT
BEGIN:VEVENT
DTSTART;TZID=Europe/Bratislava:20260430T170000
DTEND;TZID=Europe/Bratislava:20260430T210000
DTSTAMP:20260421T203228
CREATED:20260419T094825Z
LAST-MODIFIED:20260421T152202Z
UID:10001044-1777568400-1777582800@bhaktimarga.sk
SUMMARY:Mapa k vnútornému naplneniu s Rišim Amara Nimai Dāsom Prešov
DESCRIPTION:Jasnosť\, zameranie\, duchovno – mapa k vnútornému naplneniu\nVo svete\, ktorý sa mení rýchlejšie než kedykoľvek predtým\, nám každý rok prináša niečo nové\, čo zamestnáva našu myseľ. \nSme skutočne viac slobodní\, alebo skôr ešte viac zamotaní v čase? Dosiahli sme to\, po čom sme túžili? \nAk nie\, čo nám v tom bráni? \nČasto nejde o nedostatok motivácie\, ale o množstvo rozptýlení\, ktoré vytvárajú prekážky na ceste k našim cieľom. Na tejto prednáške dvaja skúsení hinduistickí mnísi\, ktorí kráčajú duchovnou cestou už mnoho rokov\, ukážu\, ako môžete vniesť duchovno do svojho každodenného života\, urobiť z nej radostný zážitok a premeniť svoju myseľ na najlepšieho priateľa\, nie na najhoršieho nepriateľa. V týchto časoch už spiritualita nie je luxusom\, ale KĽÚČOM ku všetkému v živote. \nProgram:\n17.00 – 19.00 h. rozhovor s Rišim Amara Nimai Dásom\n19.00 – 21.00 h. kírtan + volná zábava \nPríďte načerpať pokoj\, inšpiráciu a prehĺbiť svoje spojenie s Bohom s Rišim Amara Nimai Dásom a brahmačárim Damódaránandom. \nRišiho Amara Nimai Dása a brahmačárího Damódaránandu môžete stretnúť v týchto mestách:\n\n29. apríla Košice\n30. apríla Prešov\n1. mája Košice\, Levice\n2. mája Biely Kostol\n3. mája Holíč\, Bratislava
URL:https://bhaktimarga.sk/udalost/mapa-k-vnutornemu-naplneniu-presov/
LOCATION:Rheia Centrum\, Levočská 6136/36\, Prešov
CATEGORIES:Sangha
ATTACH;FMTTYPE=image/png:https://bhaktimarga.sk/wp-content/uploads/2026/04/260429_-MapaKVnutornemuNaplneniu_SLD_ftw.png
ORGANIZER;CN="Chandrakaladasi":MAILTO:chandrakaladasi@bhaktimarga.sk
END:VEVENT
BEGIN:VEVENT
DTSTART;TZID=Europe/Bratislava:20260501T090000
DTEND;TZID=Europe/Bratislava:20260501T120000
DTSTAMP:20260421T203228
CREATED:20260419T095752Z
LAST-MODIFIED:20260421T152252Z
UID:10001045-1777626000-1777636800@bhaktimarga.sk
SUMMARY:Mapa k vnútornému naplneniu s Rišim Amara Nimai Dāsom Košice
DESCRIPTION:S láskou vás pozývame na oslavu Nárasimha čaturdasí\, dňa\, kedy si pripomíname príchod Pána Nárasimhu – mocnej ochrannej formy Boha\, ktorá prichádza vždy\, keď je potrebné ochrániť oddaného. \nVedeli ste?\nPán Nárasimha je napol človek a napol lev – avatár Najvyššieho Pána Nárájenu. Z čistej lásky k svojmu oddanému sa zjavil zo stĺpa\, aby ochránil malého Prahláda pred jeho vlastným otcom\, démonickým kráľom Hiranjakašipuom.\nHoci sa zjavil len na krátky čas\, prejavil sa ako sila ochrany\, spravodlivosti a neochvejnej lásky k oddaným. \nKrátky príbeh\nPrahlád bol oddaný Bohu už od narodenia\, napriek tomu\, že jeho otec bol silný démon Hiranjakašipu\, ktorý terorizoval všetky tri svety. Napriek všetkým skúškam\, nebezpečenstvu a hrozbám zostal Prahlád pevný vo svojej viere. \nKeď sa ho otec posmešne spýtal\, či je jeho Boh prítomný aj v obyčajnom stĺpe\, Prahlád bez váhania odpovedal: „Áno\, je všade.“ Hiranjakašipu udrel do stĺpa a v tom okamihu sa stĺp roztrhol a zjavil sa Pán Nárasimha – aby ukázal\, že Boh je skutočne všade a že nikdy neopustí toho\, kto Ho úprimne miluje. \nKalaš púdžá je posvätný védsky rituál\, pri ktorom sa nádoba s vodou (kalaš) stáva sídlom Božej prítomnosti.\nKalaš predstavuje vesmír\, životnú energiu a hojnosť – a počas púdže je uctievaný ako živá prítomnosť Boha alebo konkrétneho božstva. \nProgram oslavy:\nKalaš púdžá bude zahŕňať:\n– Guru púdžá\n– Abhišékam – posvätné kúpanie Božstva\n– Spoločné čítanie prekladu Nárasimha kavačam stótram a Nárasimha modlitby – pre ochranu\, silu a vnútorný pokoj\n– To všetko za sprievodu živého kírtanu \nPríďte zažiť silu ochrany\, oddanosti a Božej prítomnosti.\nTento večer je pozvaním otvoriť srdce\, načerpať silu a spojiť sa s energiou\, ktorá chráni a vedie. \nTešíme sa na vás!\nDžai Šrí Nárasimha!\n\nRišiho Amara Nimai Dása a brahmačárího Damódaránandu môžete stretnúť v týchto mestách:\n\n29. apríla Košice\n30. apríla Prešov\n1. mája Košice\, Levice\n2. mája Biely Kostol\n3. mája Holíč\, Bratislava
URL:https://bhaktimarga.sk/udalost/mapa-k-vnutornemu-naplneniu-kosice-2/
LOCATION:EKOLOR\, Južná trieda 82\, Košice\, 040 17\, Slovenská republika
CATEGORIES:Sangha
ATTACH;FMTTYPE=image/png:https://bhaktimarga.sk/wp-content/uploads/2026/04/260429_-MapaKVnutornemuNaplneniu_SLD_ftw.png
ORGANIZER;CN="Chandrakaladasi":MAILTO:chandrakaladasi@bhaktimarga.sk
END:VEVENT
BEGIN:VEVENT
DTSTART;TZID=Europe/Bratislava:20260501T160000
DTEND;TZID=Europe/Bratislava:20260501T200000
DTSTAMP:20260421T203228
CREATED:20260419T100746Z
LAST-MODIFIED:20260421T152331Z
UID:10001046-1777651200-1777665600@bhaktimarga.sk
SUMMARY:Mapa k vnútornému naplneniu s Rišim Amara Nimai Dāsom Levice
DESCRIPTION:Jasnosť\, zameranie\, duchovno – mapa k vnútornému naplneniu\n\nVo svete\, ktorý sa mení rýchlejšie než kedykoľvek predtým\, nám každý rok prináša niečo nové\, čo zamestnáva našu myseľ. Sme skutočne viac slobodní\, alebo skôr ešte viac zamotaní v čase? Dosiahli sme to\, po čom sme túžili? Ak nie\, čo nám v tom bráni? \nČasto nejde o nedostatok motivácie\, ale o množstvo rozptýlení\, ktoré vytvárajú prekážky na ceste k našim cieľom. \nNa tejto prednáške dvaja skúsení mnísi\, ktorí kráčajú duchovnou cestou už mnoho rokov\, ukážu\, ako môžete vniesť duchovno do svojho každodenného života\, urobiť z neho radostný zážitok a premeniť svoju myseľ na najlepšieho priateľa\, nie na najhoršieho nepriateľa. V týchto časoch už duchovno nie je luxusom\, ale KĽÚČOM ku všetkému v živote. \nPozývame všetkých na oslavu Nárasimha džajantí a spoločné stretnutie s Rišim Amara Nimai Dásom a brahmačárim Damódaránandom\, žiakmi Paramahamsu Vishwanandu\, ktorí sa podelia o svoje zážitky a skúsenosti z ich duchovnej cesty. \nNárasimha\, ochranca a transformátor\, nás učí\, že odvaha\, viera a vnútorná sila dokážu prekonať aj tie najťažšie situácie a priniesť pokoj a radosť do života. \nČaká nás:\n– jagňa (ohňový rituál)\n– abhišékam (kúpanie božstva)\n– pripravené je pre vás aj občerstvenie. \nRišiho Amara Nimai Dása a brahmačárího Damódaránandu môžete stretnúť v týchto mestách: \n29. apríla Košice\n30. apríla Prešov\n1. mája Košice\, Levice\n2. mája Biely Kostol\n3. mája Holíč\, Bratislava
URL:https://bhaktimarga.sk/udalost/mapa-k-vnutornemu-naplneniu-levice/
LOCATION:Levice – Dom služieb\, Poľná 6\, Levice\, 93405
CATEGORIES:Sangha
ATTACH;FMTTYPE=image/png:https://bhaktimarga.sk/wp-content/uploads/2026/04/260429_-MapaKVnutornemuNaplneniu_SLD_ftw.png
END:VEVENT
BEGIN:VEVENT
DTSTART;TZID=Europe/Bratislava:20260502T110000
DTEND;TZID=Europe/Bratislava:20260502T200000
DTSTAMP:20260421T203228
CREATED:20260419T105438Z
LAST-MODIFIED:20260421T152409Z
UID:10001047-1777719600-1777752000@bhaktimarga.sk
SUMMARY:Mapa k vnútornému naplneniu s Rišim Amara Nimai Dāsom Trnava
DESCRIPTION:Jasnosť\, zameranie\, duchovno – mapa k vnútornému naplneniu \nPozývame vás na spoločné stretnutie pri príležitosti návštevy Rišiho Amara Nima Dása a brahmačárího Damódaránandu\, ktorí prinášajú učenie Paramahamsu Vishwanandu. \nPočas tohto stretnutia budeme mať možnosť v ich prítomnosti zažiť duchovný program\, ktorý nás môže inšpirovať na našej vlastnej ceste k vnútornému naplneniu. Súčasťou programu bude jagňa\, satsang a kírtan. \nV prednáške s názvom mapa k vnútornému naplneniu sa Riši Amara Nima Dás podelí o pohľady z učenia Paramahamsu Vishwanandu a doplní ich o inšpiratívne príbehy zo svojej duchovnej cesty. Celý program bude sprevádzaný spevom kírtanu\, ktorý nám pomôže otvoriť srdce a prehĺbiť spoločný duchovný zážitok. \nProgram:\n11.00 – 13.00 h. Spoločný brunch\n14.00 – 16.00 h. Jagňa\n16.30 – 18.30 h. Satsang\n18.30 – 20.00 h. Kírtan \nTešíme sa na spoločné stretnutie v sanghe. \nV prípade nepriaznivého počasia sa program presúva do priestorov Move Balance Yoga Centrum\, Viničná 43\, Biely Kostol \nRišiho Amara Nimai Dása a brahmačárího Damódaránandu môžete stretnúť v týchto mestách:\n\n29. apríla Košice\n30. apríla Prešov\n1. mája Košice\, Levice\n2. mája Biely Kostol\n3. mája Holíč\, Bratislava
URL:https://bhaktimarga.sk/udalost/mapa-k-vnutornemu-naplneniu-trnava/
LOCATION:Biely Kostol\, Poľovnícka 36\, Biely Kostol
CATEGORIES:Sangha
ATTACH;FMTTYPE=image/png:https://bhaktimarga.sk/wp-content/uploads/2026/04/260429_-MapaKVnutornemuNaplneniu_SLD_ftw.png
ORGANIZER;CN="Narayanayi Dasi":MAILTO:projectmantra@bhaktimarga.sk
END:VEVENT
BEGIN:VEVENT
DTSTART;TZID=Europe/Bratislava:20260503T100000
DTEND;TZID=Europe/Bratislava:20260503T123000
DTSTAMP:20260421T203228
CREATED:20260419T115623Z
LAST-MODIFIED:20260421T152518Z
UID:10001049-1777802400-1777811400@bhaktimarga.sk
SUMMARY:Mapa k vnútornému naplneniu s Rišim Amara Nimai Dāsom Holíč
DESCRIPTION:Jasnosť\, zameranie\, duchovno – mapa k vnútornému naplneniu \nVo svete\, ktorý sa mení rýchlejšie než kedykoľvek predtým\, nám každý rok prináša niečo nové\, čo zamestnáva našu myseľ. Sme skutočne viac slobodní\, alebo skôr ešte viac zamotaní v čase? Dosiahli sme to\, po čom sme túžili? Ak nie\, čo nám v tom bráni? \nČasto nejde o nedostatok motivácie\, ale o množstvo rozptýlení\, ktoré vytvárajú prekážky na ceste k našim cieľom. \nNa tejto prednáške dvaja skúsení mnísi\, ktorí kráčajú duchovnou cestou už mnoho rokov\, ukážu\, ako môžete vniesť duchovno do svojho každodenného života\, urobiť z neho radostný zážitok a premeniť svoju myseľ na najlepšieho priateľa\, nie na najhoršieho nepriateľa. V týchto časoch už duchovno nie je luxusom\, ale KĽÚČOM ku všetkému v živote. \nProgram:\nPúdžá\, abhišékam\nPrednáška\nOtázky a odpovede \nRišiho Amara Nimai Dása a brahmačárího Damódaránandu môžete stretnúť v týchto mestách:\n\n29. apríla Košice\n30. apríla Prešov\n1. mája Košice\, Levice\n2. mája Biely Kostol\n3. mája Holíč\, Bratislava
URL:https://bhaktimarga.sk/udalost/mapa-k-vnutornemu-naplneniu-holic/
LOCATION:Active Club\, Školská 3031\, Holíč
CATEGORIES:Sangha
ATTACH;FMTTYPE=image/png:https://bhaktimarga.sk/wp-content/uploads/2026/04/260429_-MapaKVnutornemuNaplneniu_SLD_ftw.png
END:VEVENT
BEGIN:VEVENT
DTSTART;TZID=Europe/Bratislava:20260503T140000
DTEND;TZID=Europe/Bratislava:20260503T200000
DTSTAMP:20260421T203228
CREATED:20260419T113458Z
LAST-MODIFIED:20260421T152604Z
UID:10001048-1777816800-1777838400@bhaktimarga.sk
SUMMARY:Mapa k vnútornému naplneniu s Rišim Amara Nimai Dāsom Bratislava
DESCRIPTION:Moderný svet je veľmi rýchly\, náročný\, človek musí denne čeliť čoraz viac výzvam a rušivým vplyvom. Dvaja mladí ľudia\, ktorí žijú naplnený duchovný život\, nám prídu porozprávať\, ako je možné aplikovať duchovno v praktickom živote. Ako dosiahnuť pokoj a jasnosť mysle. \nProgram:\n1. Duchovno v praktickom živote\n2. Otázky a odpovede\n3. Kírtan\n4. Pohostenie\, čaj\n5. Zdieľanie \nRišiho Amara Nimai Dása a brahmačárího Damódaránandu môžete stretnúť v týchto mestách:\n\n29. apríla Košice\n30. apríla Prešov\n1. mája Košice\, Levice\n2. mája Biely Kostol\n3. mája Holíč\, Bratislava
URL:https://bhaktimarga.sk/udalost/mapa-k-vnutornemu-naplneniu-bratislava/
LOCATION:Lotus Joga\, Kuzmányho 835/4\, Bratislava
CATEGORIES:Sangha
ATTACH;FMTTYPE=image/png:https://bhaktimarga.sk/wp-content/uploads/2026/04/260429_-MapaKVnutornemuNaplneniu_SLD_ftw.png
ORGANIZER;CN="Nandagopal Das":MAILTO:j.krupcik@gmail.com
END:VEVENT
END:VCALENDAR