BEGIN:VCALENDAR
VERSION:2.0
PRODID:-//Bhakti Marga Slovensko - ECPv6.15.12.2//NONSGML v1.0//EN
CALSCALE:GREGORIAN
METHOD:PUBLISH
X-ORIGINAL-URL:https://bhaktimarga.sk
X-WR-CALDESC:Udalosti pre Bhakti Marga Slovensko
REFRESH-INTERVAL;VALUE=DURATION:PT1H
X-Robots-Tag:noindex
X-PUBLISHED-TTL:PT1H
BEGIN:VTIMEZONE
TZID:Europe/Bratislava
BEGIN:DAYLIGHT
TZOFFSETFROM:+0100
TZOFFSETTO:+0200
TZNAME:CEST
DTSTART:20240331T010000
END:DAYLIGHT
BEGIN:STANDARD
TZOFFSETFROM:+0200
TZOFFSETTO:+0100
TZNAME:CET
DTSTART:20241027T010000
END:STANDARD
BEGIN:DAYLIGHT
TZOFFSETFROM:+0100
TZOFFSETTO:+0200
TZNAME:CEST
DTSTART:20250330T010000
END:DAYLIGHT
BEGIN:STANDARD
TZOFFSETFROM:+0200
TZOFFSETTO:+0100
TZNAME:CET
DTSTART:20251026T010000
END:STANDARD
BEGIN:DAYLIGHT
TZOFFSETFROM:+0100
TZOFFSETTO:+0200
TZNAME:CEST
DTSTART:20260329T010000
END:DAYLIGHT
BEGIN:STANDARD
TZOFFSETFROM:+0200
TZOFFSETTO:+0100
TZNAME:CET
DTSTART:20261025T010000
END:STANDARD
END:VTIMEZONE
BEGIN:VEVENT
DTSTART;TZID=Europe/Bratislava:20250803T160000
DTEND;TZID=Europe/Bratislava:20250803T190000
DTSTAMP:20260419T235210
CREATED:20250406T145751Z
LAST-MODIFIED:20250525T144807Z
UID:10000827-1754236800-1754247600@bhaktimarga.sk
SUMMARY:Kurz čantovania: Modlitby Bhakti Margy - šruti texty
DESCRIPTION:S veľkou radosťou vám predstavujeme úplne nový cyklus čantovania: Bhakti čantovanie. Štvrtú časť cyklu budeme venovať šruti textom a tónu. Šruti texty sú starodávne posvätné texty hinduizmu\, ktoré sa považujú za zjavené alebo priamo počuté od božského zdroja. Sú základom védskej tradície. \nZámerom cyklu kurzov bhakti čantovania je viesť študentov od úplných začiatočníkov\, postupne ich previesť náročnejšími prvkami čantovania\, až po zvládnutie umenia čantovania. Začneme s intenzívnou prácou na správnej výslovnosti – varṇa\, s dôrazom na krátke a dlhé samohlásky\, čo vytvorí pevné základy pre ďalší postup. Následne sa pohneme do sveta čanda – rôznych druhov veršov\, kde sa oboznámime s rôznymi druhmi veršov a ich očarujúcim rytmom. Aby bola čantovacia zmes hotová\, pridáme hru s tónmi – svara\, čím čantovanie nadobudne výnimočnú hladkosť a harmóniu. V nadväzujúcich kurzoch sa budeme venovať modlitbám Bhakti Margy. Budeme prehlbovať oddanosť ku guruovi\, precvičíme si šruti mantry a napokon cyklus ukončíme štúdiom ďalšieho druhu textov\, zvaného smrti. \nOnline kurzy\, ktoré sa konajú v mesačných intervaloch\, si môžete vychutnať v pohodlí svojho domova. Ako bonus navyše\, dostanete aj prepis textu do nášho jednoduchého písma (latinky)\, aby ste mohli svoje vedomosti posilniť aj po skončení kurzu. A samozrejme\, nezabudli sme ani na audio nahrávky\, ktoré vám budú vernými spoločníkmi na vašej ceste za zvukom a vibráciou čantovania. \nTak neváhajte a pripojte sa k nám a tomuto jedinečnému dobrodružstvu poznania a prehĺbenia vašej duchovnej cesty. Získať nové zručnosti a prebudiť skrytý potenciál vo vašej duši ešte nikdy nebolo tak lákavé! Získajte jedinečnú šancu preniknúť do hlbín bhakti čantovania a nechajte sa očariť jeho kúzelnou esenciou. \nSte pripravení? Vaša cesta čantovania sa začína práve teraz! \nKONTAKTY\nRegistrácia\, platba\nRanganayaki\nregistracia@bhaktimarga.sk \nObsah kurzu\, informácie o mieste a priebehu kurzu\nDevakinandana Dasi\n+421 904 947 805\nritualy@bhaktimarga.sk
URL:https://bhaktimarga.sk/udalost/kurz-cantovania-modlitby-bhakti-margy-3-8-2025/
LOCATION:Zoom – videokonferencia | Ako sa pripojím k zoom videohovoru?
CATEGORIES:Rituály
ATTACH;FMTTYPE=image/jpeg:https://bhaktimarga.sk/wp-content/uploads/2025/04/250803_Modlitby-BM-Sruti-texty_R_FTW.jpg
ORGANIZER;CN="Radhi":MAILTO:ritualy@bhaktimarga.sk
END:VEVENT
BEGIN:VEVENT
DTSTART;TZID=Europe/Bratislava:20250808T170000
DTEND;TZID=Europe/Bratislava:20250808T190000
DTSTAMP:20260419T235210
CREATED:20250805T151344Z
LAST-MODIFIED:20250806T140529Z
UID:10000846-1754672400-1754679600@bhaktimarga.sk
SUMMARY:Kírtan tour Holíč
DESCRIPTION:V rýchlom svete\, kde je všetko o výkone a zhone\, si opäť dávame jednoduchý dar:\nSadnúť si. Spomaliť. Zaspievať si.\nKírtan je hudba srdca – hudba\, ktorá sa ho dotýka nielen zvukom\,\nale aj silou ktorú so sebou nesie spievanie Božieho mena. \nNie je to koncert.\nJe to čas a priestor\, kde môžete len byť –\nso sebou\, s druhými\, a s tichom v duši. \nKde?\nHolíč 8. 8.\, 17.00-19.00\nNitra 15. 8.\, 17.00-19.00\nLevice 17. 8. v rámci osláv Krišna džanmáštamí\, potrebná registrácia\nTrenčín 23.-24. 8. Trenčín\, počas festivalu Yogacamp\nBratislava 29. 8.\, 17.00 OM Chanting\, 18.00 kírtan
URL:https://bhaktimarga.sk/udalost/kirtan-tour-holic/
LOCATION:Active Club\, Školská 3031\, Holíč
CATEGORIES:Životný štýl
ATTACH;FMTTYPE=image/png:https://bhaktimarga.sk/wp-content/uploads/2025/08/2508_Kirtan-tour_Ftw.png
ORGANIZER;CN="Saumya Dasi":MAILTO:saumyadasi@bhaktimarga.sk
END:VEVENT
BEGIN:VEVENT
DTSTART;TZID=Europe/Bratislava:20250810T160000
DTEND;TZID=Europe/Bratislava:20250810T190000
DTSTAMP:20260419T235210
CREATED:20250716T173113Z
LAST-MODIFIED:20250809T202049Z
UID:10000842-1754841600-1754852400@bhaktimarga.sk
SUMMARY:Kurz jagne
DESCRIPTION:Jagňa je tradičný hinduistický rituál\, ktorý sa praktizuje v Indii už po tisícročia. Je to obrad alebo modlitba\, ktorá sa vykonáva s cieľom budovania si vzťahu s Bohom a uctievania. Prináša do života požehnanie a prosperitu. \nPri jagni sa zvyčajne používajú rôzne druhy materiálov\, ako napríklad obilie\, strukoviny\, bylinky\, kvety\, vonné tyčinky\, ovocie a iné predmety symbolizujúce rôzne božské vlastnosti. Jagňa má viacero účelov a výhod. Jej cieľom je posilňovať duchovné spojenie s božstvom a pomáhať dosiahnuť vnútorný pokoj a harmóniu. Taktiež sa verí\, že prináša požehnanie a ochranu\, a pomáha odstraňovať negatívne energie a prekážky zo života. Ľudia často ju vykonávajú aj ako vďačnosť božstvu za starostlivosť a lásku. \nV širšom kontexte je jagňa považovaná aj za spoločenský rituál\, pretože môže byť vykonávaná nielen jednotlivcami\, ale aj rodinami\, komunitami alebo dedinami. Týmto spôsobom sa zdôrazňuje dôležitosť spoločného duchovného života a podpora zdravého a harmonického vzťahu medzi ľuďmi. \nŠtudenti kurzu jagne sa zoznámia s rôznymi aspektmi tohto rituálu. Budú sa učiť o správnych postupoch\, príprave a význame jednotlivých krokov. Tiež sa dozvedia o význame jednotlivých symbolických predmetov a ich vzťahu k hinduistickej kozmológii a filozofii. Študenti sa tiež naučia mantry a mudry (symbolické gestá)\, ktoré sa používajú počas rituálu. \nOkrem praktických aspektov budú študenti kurzu jagne tiež preskúmavať duchovný a filozofický význam tohto rituálu. Budú sa venovať významu obetovania\, posvätnosti obradu a úlohe modlitby a oddanej služby v hinduistickom náboženstve. \nNaučiť sa a praktizovať jagňu prináša mnoho výhod. Okrem získania hlbokej osobnej skúsenosti a pripojenia k Bohu\, môže pomôcť aj pri získavaní vnútornej sily\, disciplíny a vytrvalosti. Tiež môže prispieť k rozvoju súcitu\, vďačnosti a vnímania jednoty so všetkým živým. \nKurz je vyučovaný zrozumiteľným spôsobom tak\, aby ste vedeli ihneď doma sami začať robiť obrad. Súčasťou kurzu je detailný manuál\, v ktorom nájdete krok za krokom návod ako postupovať. Zároveň dostanete audio nahrávky mantier a video záznam. \nPOŽIADAVKY NA ABSOLVOVANIE KURZU JAGNE:\n– absolvovanie kurzu abhišékamu\n– praktizovanie abhišékamu minimálne 3 mesiace \nPOŽIADAVKY NA VYKONÁVANIE JAGNE:\n– vlastný púdžá set a náčinie predstavené počas kurzu (dostupné v Bhakti Shope) \nMožnosť zľavy\nNárok na 15 % zľavu majú:\n– Študenti\n– Dôchodcovia\n– Nezamestnaní (celá rodina nezamestnaná)\n– Osamelí rodičia\n– Ďalší rodinní príslušníci\, ak prídu na kurz spoločne \nNárok na 15 % zľavu sa neuplatňuje\, ak má osoba primeraný príjem. \nAk spĺňate podmienky na zľavu\, kontaktujte Ranganayaki pre získanie zľavového kupónu\, ktorý si môžete uplatniť pri registrácii na kurz. Zľavu je potrebné odkomunikovať pred registráciou. \nKONTAKTY\nRegistrácia\, platba\, informácie o mieste konania\nRanganayaki\nregistracia@bhaktimarga.sk \nObsah kurzu\, pripojenie na online kurz – asistent učiteľa\nDevakinandana Dasi\nritualy@bhaktimarga.sk\n+421 904 947 805
URL:https://bhaktimarga.sk/udalost/kurz-jagne-2/
LOCATION:Levice\, Levice\, Levice
CATEGORIES:Rituály
ATTACH;FMTTYPE=image/jpeg:https://bhaktimarga.sk/wp-content/uploads/2025/07/250810_JA_R_FTW.jpg
ORGANIZER;CN="Radhi":MAILTO:ritualy@bhaktimarga.sk
END:VEVENT
BEGIN:VEVENT
DTSTART;TZID=Europe/Bratislava:20250815T170000
DTEND;TZID=Europe/Bratislava:20250815T190000
DTSTAMP:20260419T235210
CREATED:20250805T152429Z
LAST-MODIFIED:20250811T171424Z
UID:10000847-1755277200-1755284400@bhaktimarga.sk
SUMMARY:Kírtan tour Nitra
DESCRIPTION:V rýchlom svete\, kde je všetko o výkone a zhone\, si opäť dávame jednoduchý dar:\nSadnúť si. Spomaliť. Zaspievať si.\nKírtan je hudba srdca – hudba\, ktorá sa ho dotýka nielen zvukom\,\nale aj silou ktorú so sebou nesie spievanie Božieho mena. \nNie je to koncert.\nJe to čas a priestor\, kde môžete len byť –\nso sebou\, s druhými\, a s tichom v duši. \nKde?\nHolíč 8. 8.\, 17.00-19.00\nNitra 15. 8.\, 17.00-19.00\nLevice 17. 8. v rámci osláv Krišna džanmáštamí\, potrebná registrácia\nTrenčín 23.-24. 8. Trenčín\, počas festivalu Yogacamp\nBratislava 29. 8.\, 17.00 OM Chanting\, 18.00 kírtan \nMiesto konania v Nitre: Mestský park na Sihoti\, pri Žabej fontáne
URL:https://bhaktimarga.sk/udalost/kirtan-tour-nitra/
LOCATION:Mestský park na Sihoti\, Nitra
CATEGORIES:Životný štýl
ATTACH;FMTTYPE=image/png:https://bhaktimarga.sk/wp-content/uploads/2025/08/2508_Kirtan-tour_Ftw.png
ORGANIZER;CN="Narayani Dasi":MAILTO:narayanidasi@bhaktimarga.sk
GEO:48.321442622781;18.085267654706
END:VEVENT
BEGIN:VEVENT
DTSTART;TZID=Europe/Bratislava:20250817T100000
DTEND;TZID=Europe/Bratislava:20250817T150000
DTSTAMP:20260419T235210
CREATED:20250717T142645Z
LAST-MODIFIED:20250813T173606Z
UID:10000843-1755424800-1755442800@bhaktimarga.sk
SUMMARY:Krišna džanmáštamí
DESCRIPTION:Nárok na zľavnenú vstupenku majú:\n– študenti\,\n– dôchodcovia\,\n– nezamestnaní (ak je celá rodina nezamestnaná)\,\n– osamelí rodičia\,\n– ďalší rodinní príslušníci\, ak prídu na kurz spoločne.\nNárok na zľavnenú vstupenku sa neuplatňuje\, ak má osoba primeraný príjem. \nKrišna džanmáštamí je jedným z najvýznamnejších náboženských sviatkov oslavujúcich narodenie Pána Krišnu. Tento sviatok sa koná každoročne a je veľmi dôležitou súčasťou tradície Bhakti Margy. \nPrečo oslavujeme Krišna džanmáštamí? Prvým a najdôležitejším je uctievanie a pripomínanie si narodenia Pána Krišnu\, ktorý je považovaný za výnimočnú a duchovne významnú bytosť. Taktiež sa oslavuje ako výraz vďačnosti a oddanosti voči Pánovi Krišnovi a Jeho životnému odkazu a filozofii. Stretávanie sa pri oslave Krišna džanmáštamí je tiež dôležitou súčasťou tohto sviatku. Ľudia sa zhromažďujú v chrámoch\, domoch alebo spoločných priestoroch\, aby sa spoločne modlili\, oslavovali a rozprávali príbehy spojené so životom a učením Pána Krišnu. Stretávajú sa rodiny\, priatelia a komunity\, aby sa spoločne potešili a prehĺbili svoje duchovné spojenie. \nOslava Krišna džanmáštamí je plná rôznych rituálov a aktivít. Mnoho ľudí pripravuje špeciálne jedlá a sladkosti\, ktoré obľubuje Pán Krišna. V mnohých indických chrámoch nájdete v tento deň symbolické postavy dieťaťa Krišnu v jasličkách a ľudia mu vyjadrujú úctu a oddanosť. Spievajú sa mantry a kírtan (duchovné piesne)\, súčasťou je aj tanec a príbehy z Krišnovho života\, či už prerozprávané\, alebo zahrané vo forme divadla. \nOslava Krišna džanmáštamí je príležitosť naučiť sa viac o Pánovi Krišnovi\, filozofii a životnom štýle\, prehĺbiť si vzťahy v sanghe a zažiť radosť a pokoj\, ktorý prináša oddanosť Pánu Krišnovi. \nProgram:\nGuru-púdžá\, Rádhá-Krišna-púdžá\njagňa\nobed\nsatsang
URL:https://bhaktimarga.sk/udalost/krisna-dzanmastami-17-8-2025/
LOCATION:Chrám Šrí Šrí Rádhá Dajajutája Krišna\, Levice\, Slovenská republika
CATEGORIES:Oslavy
ATTACH;FMTTYPE=image/jpeg:https://bhaktimarga.sk/wp-content/uploads/2025/07/250817_Krisna-Dzanmastami_R_FTW.jpg
END:VEVENT
BEGIN:VEVENT
DTSTART;TZID=Europe/Bratislava:20250819T140000
DTEND;TZID=Europe/Bratislava:20250819T170000
DTSTAMP:20260419T235210
CREATED:20250805T145257Z
LAST-MODIFIED:20250819T184359Z
UID:10000845-1755612000-1755622800@bhaktimarga.sk
SUMMARY:Kreatívna meditácia so Sri Yantrou
DESCRIPTION:Sri Yantra je najmocnejšia geometrická forma\, ktorá v sebe nesie božskú energiu. Predstavuje podstatu stvorenia a matricu vesmíru. Prístupom k tejto energii v deviatich krokoch sa zladíme s prirodzeným tokom života a vstúpime do vzťahu s Božskou Matkou. \nPozoruhodným aspektom Sri Yantry je jej schopnosť transformovať negatívnu energiu v nás a v našom okolí na pozitívnu energiu. Keď ju umiestnime určitým smerom\, prináša duchovný prospech a materiálnu prosperitu. Táto tajná geometria obnovuje rovnováhu a vitalitu a môže sa používať na liečebné účely. \nAko ľudské bytosti sme mikrokozmami univerzálneho makrokozmu a Sri Yantra je prítomná aj v nás. Maľovaním\, kreslením alebo meditáciou o nej môžeme získať kontrolu nad svojou mysľou a zvýšiť vibrácie celého tela. \nPripravte sa na introspektívnu cestu\, ktorá vás zavedie späť do jadra vášho srdca. \n„Sri Yantra vám dáva všetky dobré vlastnosti\, ktoré potrebujete na dosiahnutie najvyššieho cieľa života.“\nParamahamsa Vishwananda \nČO OČAKÁVAŤ?\nKurz trvá tri hodiny a zahŕňa úvod do Sri Yantry\, vysvetlenie techník a materiálov na maľovanie a meditáciu s farebnou vizualizáciou a afirmáciami krok za krokom. Tento kurz je jednoduchý\, ale silný a nevyžaduje si žiadne predchádzajúce skúsenosti. \nPODMIENKY ÚČASTI\nMinimálny vek účastníka je 15 rokov. \nMOŽNOSŤ ZĽAVY \nNárok na 15 % zľavu majú:\n– Študenti\n– Dôchodcovia\n– Nezamestnaní (celá rodina nezamestnaná)\n– Osamelí rodičia\n– Ďalší rodinní príslušníci\, ak prídu na kurz spoločne \nNárok na 15 % zľavu sa neuplatňuje\, ak má osoba primeraný príjem.\nAk spĺňate podmienky na zľavu\, kotaktujte Ranganayaki pre získanie zľavového kupónu\, ktorý si môžete uplatniť pri registrácii na kurz. Zľavu je potrebné odkomunikovať pred registráciou. \nKONTAKTY\nRegistrácia\, platba\, informácie o mieste konania\nRanganayaki\n+421 948 046 779\nregistracia@bhaktimarga.sk \nObsah kurzu – učiteľ\nSaumya Dasi\n+421 903 110 111\nsaumyadasi@bhaktimarga.sk
URL:https://bhaktimarga.sk/udalost/kreativna-meditacia-so-sri-yantrou-3/
LOCATION:Holíč\, Active club\, Školská 3031\, Holíč
CATEGORIES:Duchovné umenie
ATTACH;FMTTYPE=image/png:https://bhaktimarga.sk/wp-content/uploads/2025/08/250819_SY_SD_ftw.png
ORGANIZER;CN="Saumya Dasi":MAILTO:saumyadasi@bhaktimarga.sk
END:VEVENT
BEGIN:VEVENT
DTSTART;TZID=Europe/Bratislava:20250823T093000
DTEND;TZID=Europe/Bratislava:20250823T180000
DTSTAMP:20260419T235210
CREATED:20250805T153540Z
LAST-MODIFIED:20250806T140322Z
UID:10000848-1755941400-1755972000@bhaktimarga.sk
SUMMARY:Kírtan tour Trenčín
DESCRIPTION:V rýchlom svete\, kde je všetko o výkone a zhone\, si opäť dávame jednoduchý dar:\nSadnúť si. Spomaliť. Zaspievať si.\nKírtan je hudba srdca – hudba\, ktorá sa ho dotýka nielen zvukom\,\nale aj silou ktorú so sebou nesie spievanie Božieho mena. \nNie je to koncert.\nJe to čas a priestor\, kde môžete len byť –\nso sebou\, s druhými\, a s tichom v duši. \nKde?\nHolíč 8. 8.\, 17.00-19.00\nNitra 15. 8.\, 17.00-19.00\nLevice 17. 8. v rámci osláv Krišna džanmáštamí\, potrebná registrácia\nTrenčín 23.-24. 8. Trenčín\, počas festivalu Yogacamp\nBratislava 29. 8.\, 17.00 OM Chanting\, 18.00 kírtan
URL:https://bhaktimarga.sk/udalost/kirtan-tour-trencin/
LOCATION:Kultúrny dom\, Zlatovce\,\, Trenčín
CATEGORIES:Životný štýl
ATTACH;FMTTYPE=image/png:https://bhaktimarga.sk/wp-content/uploads/2025/08/2508_Kirtan-tour_Ftw.png
ORGANIZER;CN="Saumya Dasi":MAILTO:saumyadasi@bhaktimarga.sk
END:VEVENT
BEGIN:VEVENT
DTSTART;TZID=Europe/Bratislava:20250829T170000
DTEND;TZID=Europe/Bratislava:20250829T200000
DTSTAMP:20260419T235210
CREATED:20250805T154141Z
LAST-MODIFIED:20250806T141147Z
UID:10000849-1756486800-1756497600@bhaktimarga.sk
SUMMARY:Kírtan tour Bratislava
DESCRIPTION:V rýchlom svete\, kde je všetko o výkone a zhone\, si opäť dávame jednoduchý dar:\nSadnúť si. Spomaliť. Zaspievať si.\nKírtan je hudba srdca – hudba\, ktorá sa ho dotýka nielen zvukom\,\nale aj silou ktorú so sebou nesie spievanie Božieho mena. \nNie je to koncert.\nJe to čas a priestor\, kde môžete len byť –\nso sebou\, s druhými\, a s tichom v duši. \nKde?\nHolíč 8. 8.\, 17.00-19.00\nNitra 15. 8.\, 17.00-19.00\nLevice 17. 8. v rámci osláv Krišna džanmáštamí\, potrebná registrácia\nTrenčín 23.-24. 8. Trenčín\, počas festivalu Yogacamp\nBratislava 29. 8.\, 17.00 OM Chanting\, 18.00 Kírtan \nInformácie o mieste konania v Bratislave: Omkari Dasi\, Barbora\, +421 948 182 992
URL:https://bhaktimarga.sk/udalost/kirtan-tour-bratislava/
CATEGORIES:Životný štýl
ATTACH;FMTTYPE=image/png:https://bhaktimarga.sk/wp-content/uploads/2025/08/2508_Kirtan-tour_Ftw.png
END:VEVENT
BEGIN:VEVENT
DTSTART;TZID=Europe/Bratislava:20250830T100000
DTEND;TZID=Europe/Bratislava:20250830T150000
DTSTAMP:20260419T235210
CREATED:20250717T144436Z
LAST-MODIFIED:20250825T134618Z
UID:10000844-1756548000-1756566000@bhaktimarga.sk
SUMMARY:Rádháštamí
DESCRIPTION:Nárok na zľavnenú vstupenku majú:\n– študenti\,\n– dôchodcovia\,\n– nezamestnaní (ak je celá rodina nezamestnaná)\,\n– osamelí rodičia\,\n– ďalší rodinní príslušníci\, ak prídu na kurz spoločne.\nNárok na zľavnenú vstupenku sa neuplatňuje\, ak má osoba primeraný príjem. \nRádháštamí je oslavou narodenia sladkej Rádhárání\, spoločníčky Pána Krišnu. \nSrdečne vás pozývame na slávnosť Rádháštamí. Táto oslava je venovaná vznešenej láske medzi Pánom Krišnom a Jeho najmilšou spoločníčkou\, Rádhou. \nHistória tejto oslavy siaha až do dávnych čias. Rádháštamí je spojené s príbehom lásky a oddanosti medzi Pánom Krišnom a Rádhou\, ktorý sa odohrával v krásnom Vrindávane. Krišna a Rádhá sa stretli v mladom veku a okamžite sa do seba zamilovali. Ich vzťah symbolizuje dokonalú duchovnú lásku a oddanosť medzi Bohom a dušou. Rádháštamí je preto časom\, keď oslavujeme túto nebeskú lásku a venujeme úctu Rádhe a Krišnovi. Tento sviatok je vyjadrením našej vlastnej túžby nájsť takú lásku a spojenie s Bohom vo svojom srdci. Je to čas na duchovnú introspekciu a hľadanie vlastnej oddanosti voči Bohu. \nV chráme pripravujeme bohatý program. V ranných hodinách sa uskutoční púdžá\, ktorá je rituálnym uctievaním božského páru Rádhy a Krišnu. Po púdži budeme pokračovať s jagňou\, ktorá je ohňovým obradom\, kde spoločne vyjadrujeme svoju oddanosť. Neskôr sa uskutoční satsang\, čo je spoločná diskusia a prednáška o duchovných témach\, ktorá nám pomôže hlbšie pochopiť význam a posolstvo Rádháštamí. Je to príležitosť na to\, aby sme sa spojili s božskou láskou a prehĺbili si vzťah s Rádhou\, ktorá nám pomôže posilniť svoj vzťah s Krišnom. Toto podujatie je aj príležitosťou na stretnutie s rovnako zmýšľajúcimi ľuďmi\, našou sanghou a na zdieľanie svojho duchovného putovania. \nTešíme sa na spoločnú oslavu Rádháštamí. Nech nás táto slávnosť naplní božskou láskou\, radosťou a pokojom. \nProgram:\nGuru-púdžá\, Rádhá-Krišna-púdžá\njagňa\nobed\nsatsang
URL:https://bhaktimarga.sk/udalost/radhastami-31-8-2025/
LOCATION:Chrám Šrí Šrí Rádhá Dajajutája Krišna\, Levice\, Slovenská republika
CATEGORIES:Oslavy
ATTACH;FMTTYPE=image/jpeg:https://bhaktimarga.sk/wp-content/uploads/2025/07/250830_Radhastami_D_FTW.jpg
END:VEVENT
BEGIN:VEVENT
DTSTART;TZID=Europe/Bratislava:20250830T160000
DTEND;TZID=Europe/Bratislava:20250830T163000
DTSTAMP:20260419T235210
CREATED:20250126T161131Z
LAST-MODIFIED:20260129T195537Z
UID:10000772-1756569600-1756571400@bhaktimarga.sk
SUMMARY:Modlitba za svet
DESCRIPTION:„Modlitba je jedna z najkrajších vecí\, najmä keď sa môžeme modliť nie za seba\, ale za iných… Modlitba je niečo\, čo z vás vyžaruje. Modlitba neznamená byť na kolenách\, že len tak sa môžete modliť. Nie. Modlitba je každý okamih vášho života\, keď ste\, keď viete\, že Boh je s vami! Všade sa s Ním môžete rozprávať! Kdekoľvek Ho môžete zavolať!“\nParamahamsa Vishwananda \nKeď sa ľudia spoja so zámerom pomôcť iným\, Boh je istotne s nimi. Takto sa môžeme každý mesiac spojiť a modliť sa za ľudí\, miesta\, ktoré to potrebujú\, za celú Matku Zem. \nParamahamsa Vishwananda vedie vždy 30. dňa v mesiaci (vo februári 28) spoločnú modlitbu online cez YouTube. K modlitbe sa môžete pripojiť cez jeho YouTube kanál\, alebo\, ak potrebujete tlmočenie\, cez Bhakti+. \nPriamy prenos aj s možnosťou využiť tlmočenie je dostupný cez Bhakti+. Viac informácií nájdete tu: https://bhakti.plus/ \nSledujte nás na našich sociálnych sieťach pre prípad zmeny. \nZaslanie mien ľudí\, za ktorých sa chcete modliť\nAk poznáte niekoho\, kto potrebuje modlitbu\, môžete poslať mená cez tento link: POSLAŤ MENÁ. Mená týchto ľudí budú čítané počas modlitby v ášrame Shree Peetha Nilaya.
URL:https://bhaktimarga.sk/udalost/modlitba-za-svet/2025-08-30/
CATEGORIES:Udalosti s Gurudžím
ATTACH;FMTTYPE=image/jpeg:https://bhaktimarga.sk/wp-content/uploads/2025/01/jan-fb1.jpg
END:VEVENT
BEGIN:VEVENT
DTSTART;TZID=Europe/Bratislava:20250831T090000
DTEND;TZID=Europe/Bratislava:20250831T120000
DTSTAMP:20260419T235210
CREATED:20250812T163500Z
LAST-MODIFIED:20250813T171252Z
UID:10000850-1756630800-1756641600@bhaktimarga.sk
SUMMARY:Kurz abhišékamu
DESCRIPTION:Robíte jednoduchú púdžu aspoň 3 mesiace a máte túžbu ísť hlbšie do vzťahu so svojím božstvom? V tom prípade je kurz abhišékamu presne pre vás. \nRituál abhišékam reprezentuje úplné odovzdanie sa Bohu a je jedným z najkrajších rituálov\, aké existujú. Pomáha zblížiť sa s božstvom a prináša človeka bližšie k jednote s Bohom. Počas abhišékamu božstvo kúpeme v piatich elementoch\, ktoré sú počas obradu ponúkané vo forme mlieka\, jogurtu\, ghí\, medu a cukru. Tento obrad je prospešný nielen pre púdžárího (človeka vykonávajúceho obrad)\, ale aj pre prítomných ľudí a prostredie\, kde sa obrad vykonáva. \nNa kurze sa naučíte význam a symboliku jednotlivých krokov abhišékamu. Kurz je vyučovaný zrozumiteľným spôsobom tak\, aby ste vedeli ihneď sami začať robiť obrad doma . Súčasťou kurzu je detailný manuál\, v ktorom nájdete krok za krokom návod ako postupovať. Zároveň dostanete audio nahrávky mantier a video záznam\, ako správne vykonávať abhišékam. \nPOŽIADAVKY NA ABSOLVOVANIE KURZU:\n– absolvovali ste kurz jednoduchej púdže\n– praktizujete jednoduchú púdžu minimálne 3 mesiace \nPOŽIADAVKY NA VYKONÁVANIE ABHIŠÉKAMU:\n– máte vlastnú múrti\n– máte púdža set a náčinie na abhišékam\n(dostupné v Bhakti Shope) \nMOŽNOSŤ ZĽAVY\nNárok na 15 % zľavu majú:\n– Študenti\n– Dôchodcovia\n– Nezamestnaní (celá rodina nezamestnaná)\n– Osamelí rodičia\n– Ďalší rodinní príslušníci\, ak prídu na kurz spoločne \nNárok na 15 % zľavu sa neuplatňuje\, ak má osoba primeraný príjem.\nAk spĺňate podmienky na zľavu\, kontaktujte Ranganayaki pre získanie zľavového kupónu\, ktorý si môžete uplatniť pri registrácii na kurz. Zľavu je potrebné odkomunikovať pred registráciou. \nKONTAKTY\nRegistrácia\, platba\, informácie o mieste konania\nRanganayaki\n+421 948 046 779\nregistracia@bhaktimarga.sk \nObsah kurzu\, pripojenie na online kurz – asistent učiteľa\nDevakinandana Dasi\nritualy@bhaktimarga.sk\n+421 904 947 805
URL:https://bhaktimarga.sk/udalost/kurz-abhisekamu/
LOCATION:Zoom – videokonferencia | Ako sa pripojím k zoom videohovoru?
CATEGORIES:Rituály
ATTACH;FMTTYPE=image/jpeg:https://bhaktimarga.sk/wp-content/uploads/2025/08/250831_AB_R_FTW.jpg
ORGANIZER;CN="Radhi":MAILTO:ritualy@bhaktimarga.sk
END:VEVENT
END:VCALENDAR