BEGIN:VCALENDAR
VERSION:2.0
PRODID:-//Bhakti Marga Slovensko - ECPv6.15.12.2//NONSGML v1.0//EN
CALSCALE:GREGORIAN
METHOD:PUBLISH
X-WR-CALNAME:Bhakti Marga Slovensko
X-ORIGINAL-URL:https://bhaktimarga.sk
X-WR-CALDESC:Udalosti pre Bhakti Marga Slovensko
REFRESH-INTERVAL;VALUE=DURATION:PT1H
X-Robots-Tag:noindex
X-PUBLISHED-TTL:PT1H
BEGIN:VTIMEZONE
TZID:Europe/Bratislava
BEGIN:DAYLIGHT
TZOFFSETFROM:+0100
TZOFFSETTO:+0200
TZNAME:CEST
DTSTART:20250330T010000
END:DAYLIGHT
BEGIN:STANDARD
TZOFFSETFROM:+0200
TZOFFSETTO:+0100
TZNAME:CET
DTSTART:20251026T010000
END:STANDARD
BEGIN:DAYLIGHT
TZOFFSETFROM:+0100
TZOFFSETTO:+0200
TZNAME:CEST
DTSTART:20260329T010000
END:DAYLIGHT
BEGIN:STANDARD
TZOFFSETFROM:+0200
TZOFFSETTO:+0100
TZNAME:CET
DTSTART:20261025T010000
END:STANDARD
BEGIN:DAYLIGHT
TZOFFSETFROM:+0100
TZOFFSETTO:+0200
TZNAME:CEST
DTSTART:20270328T010000
END:DAYLIGHT
BEGIN:STANDARD
TZOFFSETFROM:+0200
TZOFFSETTO:+0100
TZNAME:CET
DTSTART:20271031T010000
END:STANDARD
END:VTIMEZONE
BEGIN:VEVENT
DTSTART;TZID=Europe/Bratislava:20260429T170000
DTEND;TZID=Europe/Bratislava:20260429T210000
DTSTAMP:20260423T121648
CREATED:20260419T092013Z
LAST-MODIFIED:20260421T152059Z
UID:10001043-1777482000-1777496400@bhaktimarga.sk
SUMMARY:Mapa k vnútornému naplneniu s Rišim Amara Nimai Dāsom Košice
DESCRIPTION:Pozývame vás na interaktívny workshop s Rišim Amara Nimai Dásom. \nTādātmya Vedanta\nNa tomto workshope sa pozrieme na to\, ako je filozofia prirodzenou súčasťou našej duchovnej cesty – nie ako teória\, ale ako živý nástroj pre každodenný život. \nSpoločne objavíme\, ako nám správne pochopenie filozofie pomáha:\n– ukotviť sa v sebe\n– lepšie porozumieť vlastným emóciám a mysli\n– rozvíjať vedomie a vnútornú stabilitu \nRiši Amara Nimai Dás nás prevedie kľúčovými princípmi\, ktoré nám pomôžu nielen pochopiť\, ale aj skutočne prežívať duchovnú cestu hlbšie a vedomejšie. \nTento workshop je pozvaním spomaliť\, nazrieť hlbšie do seba a objaviť múdrosť\, ktorá nás môže sprevádzať v každom okamihu života. \nVaišnava v modernom svete\nAko žiť duchovný život uprostred každodenných povinností\, práce a vzťahov? Ako si zachovať pokoj\, oddanosť a jasnú myseľ aj v rýchlom tempe dnešnej doby? \nPozývame vás na stretnutie\, kde sa spolu pozrieme na to\, čo znamená byť vaišnavom v modernom svete – s nohami pevne na zemi a srdcom obráteným k Bohu. \nČo nás čaká:\n– sila a podpora sanghy\n– budovanie správneho nastavenia mysle pre každodenný život\n– zdieľanie skúseností Rišiho a brahmačáriho\, inšpirácia a vnútorné posilnenie \nProgram:\n17:00  Zvítanie\n17:30 – 19:00 Tādātmya Vedanta – najdôležitejšie poznania v praxi\n19:00 – 19:30 Prestávka/Kírtan\n19:30 – 21:00 Identita Vaišnavu – interaktívny workshop \nPríďte načerpať pokoj\, inšpiráciu a prehĺbiť svoje spojenie s Bohom s Rišim Amara Nimai Dásom a brahmačárim Damódaránandom. \nRišiho Amara Nimai Dása a brahmačárího Damódaránandu môžete stretnúť v týchto mestách: \n29. apríla Košice\n30. apríla Prešov\n1. mája Košice\, Levice\n2. mája Biely Kostol\n3. mája Holíč\, Bratislava
URL:https://bhaktimarga.sk/udalost/mapa-k-vnutornemu-naplneniu-kosice/
LOCATION:EKOLOR\, Južná trieda 82\, Košice\, 040 17\, Slovenská republika
CATEGORIES:Sangha
ATTACH;FMTTYPE=image/png:https://bhaktimarga.sk/wp-content/uploads/2026/04/260429_-MapaKVnutornemuNaplneniu_SLD_ftw.png
ORGANIZER;CN="Chandrakaladasi":MAILTO:chandrakaladasi@bhaktimarga.sk
END:VEVENT
BEGIN:VEVENT
DTSTART;TZID=Europe/Bratislava:20260429T190000
DTEND;TZID=Europe/Bratislava:20260429T195000
DTSTAMP:20260423T121648
CREATED:20260416T162101Z
LAST-MODIFIED:20260416T162459Z
UID:10001037-1777489200-1777492200@bhaktimarga.sk
SUMMARY:Študijný kruh Šrímad Bhágavatamu
DESCRIPTION:Hľadáte chvíľu pokoja v kolobehu všedných dní? \nLevická sangha vás srdečne pozýva na pravidelné stretnutia so spoločným čítaním Šrímad Bhágavatamu – raz za 14 dní sa spolu započúvame do jeho nadčasovej múdrosti. \nStrávime pár obohacujúcich chvíľ v príjemnej spoločnosti a duchovnej atmosfére. \nStačí sa pripojiť o 19.00 cez Zoom: \nhttps://us06web.zoom.us/j/82635434627?pwd=TI4IQRIXOeaf8F4saclzMFufyO8RDS.1\nHeslo: 1008 \nFinančná podpora\nSme vám vďační za vaše finančné príspevky\, pomáhajú nám aj v šírení Božieho Mena. \nPrispieť môžete na účet Bhakti Margy Slovensko:\nIBAN: SK26 0900 0000 0052 4180 4360. Do poznámky uveďte dar alebo kartou cez odkaz nižšie. \nPRISPEJTE TU.
URL:https://bhaktimarga.sk/udalost/studijny-kruh-srimad-bhagavatamu/2026-04-29/
LOCATION:Levice – Dom služieb\, Poľná 6\, Levice\, 93405
CATEGORIES:Vzdelávanie
ATTACH;FMTTYPE=image/png:https://bhaktimarga.sk/wp-content/uploads/2026/04/26_StudKruhSB_SLD_FTW_FU.png
ORGANIZER;CN="Siddhalakshmi Dasi":MAILTO:pobyty@bhaktimarga.sk
END:VEVENT
END:VCALENDAR