BEGIN:VCALENDAR
VERSION:2.0
PRODID:-//Bhakti Marga Slovensko - ECPv6.15.12.2//NONSGML v1.0//EN
CALSCALE:GREGORIAN
METHOD:PUBLISH
X-ORIGINAL-URL:https://bhaktimarga.sk
X-WR-CALDESC:Udalosti pre Bhakti Marga Slovensko
REFRESH-INTERVAL;VALUE=DURATION:PT1H
X-Robots-Tag:noindex
X-PUBLISHED-TTL:PT1H
BEGIN:VTIMEZONE
TZID:Europe/Bratislava
BEGIN:DAYLIGHT
TZOFFSETFROM:+0100
TZOFFSETTO:+0200
TZNAME:CEST
DTSTART:20240331T010000
END:DAYLIGHT
BEGIN:STANDARD
TZOFFSETFROM:+0200
TZOFFSETTO:+0100
TZNAME:CET
DTSTART:20241027T010000
END:STANDARD
BEGIN:DAYLIGHT
TZOFFSETFROM:+0100
TZOFFSETTO:+0200
TZNAME:CEST
DTSTART:20250330T010000
END:DAYLIGHT
BEGIN:STANDARD
TZOFFSETFROM:+0200
TZOFFSETTO:+0100
TZNAME:CET
DTSTART:20251026T010000
END:STANDARD
BEGIN:DAYLIGHT
TZOFFSETFROM:+0100
TZOFFSETTO:+0200
TZNAME:CEST
DTSTART:20260329T010000
END:DAYLIGHT
BEGIN:STANDARD
TZOFFSETFROM:+0200
TZOFFSETTO:+0100
TZNAME:CET
DTSTART:20261025T010000
END:STANDARD
END:VTIMEZONE
BEGIN:VEVENT
DTSTART;TZID=Europe/Bratislava:20251201T190000
DTEND;TZID=Europe/Bratislava:20251201T210000
DTSTAMP:20260419T181135
CREATED:20251115T184126Z
LAST-MODIFIED:20251115T184731Z
UID:10000874-1764615600-1764622800@bhaktimarga.sk
SUMMARY:Gítá džajantí
DESCRIPTION:ZRODENIE GÍTY \nPred viac ako 5 000 rokmi\, v tento deň\, Pán v úlohe pokorného vozataja prehovoril k svojmu priateľovi a žiakovi Ardžunovi uprostred bojiska na pokraji vojny. Múdrosť\, ktorú vtedy predniesol\, je rovnako aktuálna aj dnes a má hlbší význam pre náš život. Bhagavad Gítá poskytuje plán\, ktorý vedie duchovných hľadačov až ku konečnému cieľu\, k realizácii Boha. \nPán Krišna sa o poznaní\, nachádzajúcom sa v Gíte\, vyjadril aj takto: „Kráľovskí mudrci dostali toto poznanie\, odovzdávané z učiteľa na žiaka. Ó\, Ardžuna\, priebehom času sa však táto joga svetu stratila. V tejto istej starodávnej joge\, ktorú ťa teraz učím\, lebo si Môj oddaný a priateľ\, v nej je skutočne najvyššie tajomstvo.“ – Bhagavad Gítá\, 4.2-3 \nČo možno očakávať?\nVédsky rituál uctievania – púdžá\nPrednáška s príbehmi a návodom na použitie v bežnom živote \nOnline pripojenie cez zoom\nhttps://us06web.zoom.us/j/81407752664?pwd=6GoIlcesBtakUmmuWdxDsWkXNtGesN.1 \nMeeting ID: 814 0775 2664\nHeslo: gita \nVstupné: Dobrovoľný príspevok \nPRISPIEŤ ONLINE
URL:https://bhaktimarga.sk/udalost/gita-dzajanti/
LOCATION:Active Club\, Školská 3031\, Holíč
CATEGORIES:Vzdelávanie
ATTACH;FMTTYPE=image/png:https://bhaktimarga.sk/wp-content/uploads/2025/11/251201_GitaDzajanti_SD_FTW.png
ORGANIZER;CN="Saumya Dasi":MAILTO:saumyadasi@bhaktimarga.sk
END:VEVENT
END:VCALENDAR