BEGIN:VCALENDAR
VERSION:2.0
PRODID:-//Bhakti Marga Slovensko - ECPv6.15.12.2//NONSGML v1.0//EN
CALSCALE:GREGORIAN
METHOD:PUBLISH
X-WR-CALNAME:Bhakti Marga Slovensko
X-ORIGINAL-URL:https://bhaktimarga.sk
X-WR-CALDESC:Udalosti pre Bhakti Marga Slovensko
REFRESH-INTERVAL;VALUE=DURATION:PT1H
X-Robots-Tag:noindex
X-PUBLISHED-TTL:PT1H
BEGIN:VTIMEZONE
TZID:Europe/Bratislava
BEGIN:DAYLIGHT
TZOFFSETFROM:+0100
TZOFFSETTO:+0200
TZNAME:CEST
DTSTART:20240331T010000
END:DAYLIGHT
BEGIN:STANDARD
TZOFFSETFROM:+0200
TZOFFSETTO:+0100
TZNAME:CET
DTSTART:20241027T010000
END:STANDARD
BEGIN:DAYLIGHT
TZOFFSETFROM:+0100
TZOFFSETTO:+0200
TZNAME:CEST
DTSTART:20250330T010000
END:DAYLIGHT
BEGIN:STANDARD
TZOFFSETFROM:+0200
TZOFFSETTO:+0100
TZNAME:CET
DTSTART:20251026T010000
END:STANDARD
BEGIN:DAYLIGHT
TZOFFSETFROM:+0100
TZOFFSETTO:+0200
TZNAME:CEST
DTSTART:20260329T010000
END:DAYLIGHT
BEGIN:STANDARD
TZOFFSETFROM:+0200
TZOFFSETTO:+0100
TZNAME:CET
DTSTART:20261025T010000
END:STANDARD
END:VTIMEZONE
BEGIN:VEVENT
DTSTART;TZID=Europe/Bratislava:20251130T160000
DTEND;TZID=Europe/Bratislava:20251130T163000
DTSTAMP:20260419T193525
CREATED:20250126T161131Z
LAST-MODIFIED:20260129T195537Z
UID:10000775-1764518400-1764520200@bhaktimarga.sk
SUMMARY:Modlitba za svet
DESCRIPTION:„Modlitba je jedna z najkrajších vecí\, najmä keď sa môžeme modliť nie za seba\, ale za iných… Modlitba je niečo\, čo z vás vyžaruje. Modlitba neznamená byť na kolenách\, že len tak sa môžete modliť. Nie. Modlitba je každý okamih vášho života\, keď ste\, keď viete\, že Boh je s vami! Všade sa s Ním môžete rozprávať! Kdekoľvek Ho môžete zavolať!“\nParamahamsa Vishwananda \nKeď sa ľudia spoja so zámerom pomôcť iným\, Boh je istotne s nimi. Takto sa môžeme každý mesiac spojiť a modliť sa za ľudí\, miesta\, ktoré to potrebujú\, za celú Matku Zem. \nParamahamsa Vishwananda vedie vždy 30. dňa v mesiaci (vo februári 28) spoločnú modlitbu online cez YouTube. K modlitbe sa môžete pripojiť cez jeho YouTube kanál\, alebo\, ak potrebujete tlmočenie\, cez Bhakti+. \nPriamy prenos aj s možnosťou využiť tlmočenie je dostupný cez Bhakti+. Viac informácií nájdete tu: https://bhakti.plus/ \nSledujte nás na našich sociálnych sieťach pre prípad zmeny. \nZaslanie mien ľudí\, za ktorých sa chcete modliť\nAk poznáte niekoho\, kto potrebuje modlitbu\, môžete poslať mená cez tento link: POSLAŤ MENÁ. Mená týchto ľudí budú čítané počas modlitby v ášrame Shree Peetha Nilaya.
URL:https://bhaktimarga.sk/udalost/modlitba-za-svet/2025-11-30/
CATEGORIES:Udalosti s Gurudžím
ATTACH;FMTTYPE=image/jpeg:https://bhaktimarga.sk/wp-content/uploads/2025/01/jan-fb1.jpg
END:VEVENT
BEGIN:VEVENT
DTSTART;TZID=Europe/Bratislava:20251130T170000
DTEND;TZID=Europe/Bratislava:20251130T172000
DTSTAMP:20260419T193525
CREATED:20251124T201346Z
LAST-MODIFIED:20251124T201623Z
UID:10000879-1764522000-1764523200@bhaktimarga.sk
SUMMARY:Meditácia s Mahāvatārom Bābājīm
DESCRIPTION:Mahāvatār Bābājī je nesmrteľný jogín\, ktorý sa zjavil na Zemi pred 5000 rokmi a dodnes žije v Himalájach. \nPred viac ako 1800 rokmi sa zaviazal zostať vo fyzickom tele\, aby pomáhal celému ľudstvu dosiahnuť osvietenie. Je to guru nášho gurua\, Paramahamsu Vishwanandu\, a preto oslavujeme Jeho prínos pre Bhakti Margu a ľudstvo. Tento deň slávime každoročne 30. novembra. \nSrdečne vás pozývame na spoločnú vedenú meditáciu\, ktorou si Ho môžeme spoločne uctiť. \nAko sa pripojím?\nPripojiť sa môžete cez zoom: https://us06web.zoom.us/j/81360485915?pwd=RUpa9jPkoVxiPIsMEDFGkk3nbwIYIq.1\nMeeting ID: 813 6048 5915\nHeslo: 1008 \nZoom bude otvorený 10 minút pred meditáciou\, ktorá začne o 17.00 h. \nVedeli ste\, že…?\nMahāvatār Bābājī je známy ako otec všetkých tradícií krijá-jogy. Vďaka Jeho milosti bola Bhakti Marga požehnaná Atma Kriya Yogou. \nAk chcete podporiť poslanie Bhakti Margy\, uvítame vaše finančné príspevky. \nCHCEM PRISPIEŤ
URL:https://bhaktimarga.sk/udalost/meditacia-s-mahavatarom-babajim/
LOCATION:Zoom – videokonferencia | Ako sa pripojím k zoom videohovoru?
CATEGORIES:Joga a meditácia
ATTACH;FMTTYPE=image/png:https://bhaktimarga.sk/wp-content/uploads/2025/11/251130_MeditaciaSMahavataromBabajim_NRY_FTW.png
ORGANIZER;CN="Narayani Dasi":MAILTO:narayanidasi@bhaktimarga.sk
END:VEVENT
END:VCALENDAR