BEGIN:VCALENDAR
VERSION:2.0
PRODID:-//Bhakti Marga Slovensko - ECPv6.15.12.2//NONSGML v1.0//EN
CALSCALE:GREGORIAN
METHOD:PUBLISH
X-WR-CALNAME:Bhakti Marga Slovensko
X-ORIGINAL-URL:https://bhaktimarga.sk
X-WR-CALDESC:Udalosti pre Bhakti Marga Slovensko
REFRESH-INTERVAL;VALUE=DURATION:PT1H
X-Robots-Tag:noindex
X-PUBLISHED-TTL:PT1H
BEGIN:VTIMEZONE
TZID:Europe/Bratislava
BEGIN:DAYLIGHT
TZOFFSETFROM:+0100
TZOFFSETTO:+0200
TZNAME:CEST
DTSTART:20240331T010000
END:DAYLIGHT
BEGIN:STANDARD
TZOFFSETFROM:+0200
TZOFFSETTO:+0100
TZNAME:CET
DTSTART:20241027T010000
END:STANDARD
BEGIN:DAYLIGHT
TZOFFSETFROM:+0100
TZOFFSETTO:+0200
TZNAME:CEST
DTSTART:20250330T010000
END:DAYLIGHT
BEGIN:STANDARD
TZOFFSETFROM:+0200
TZOFFSETTO:+0100
TZNAME:CET
DTSTART:20251026T010000
END:STANDARD
BEGIN:DAYLIGHT
TZOFFSETFROM:+0100
TZOFFSETTO:+0200
TZNAME:CEST
DTSTART:20260329T010000
END:DAYLIGHT
BEGIN:STANDARD
TZOFFSETFROM:+0200
TZOFFSETTO:+0100
TZNAME:CET
DTSTART:20261025T010000
END:STANDARD
END:VTIMEZONE
BEGIN:VEVENT
DTSTART;TZID=Europe/Bratislava:20251122T084500
DTEND;TZID=Europe/Bratislava:20251122T173000
DTSTAMP:20260419T205622
CREATED:20251102T121447Z
LAST-MODIFIED:20251102T123358Z
UID:10000854-1763801100-1763832600@bhaktimarga.sk
SUMMARY:Rysovanie Sri Yantry
DESCRIPTION:SILA VŠETKÉHO STVORENIA\nJantra je najposvätnejšia geometria\, akú ľudstvo pozná\, a je to veľmi výnimočný energetický nástroj na duchovný pokrok. Spomedzi jantier sa Sri Yantra považuje za najstaršiu\, najmocnejšiu a najúčinnejšiu. \nVerí sa\, že Sri Yantra obsahuje silu všetkého stvorenia a je považovaná za skutočnú podobu samotnej Božskej Matky.\nJej prepletené trojuholníky symbolizujú spojenie mužskej a ženskej energie stvorenia. \nV tejto podobe sú plne zastúpené obe kvality\, mužská aj ženská\, ktoré máme aj my sami v sebe. Okrem jej podoby sa však v Sri Yantre skrýva väčšie tajomstvo\, ktoré treba preskúmať. \nJantra je energetický nástroj pre náš duchovný pokrok. Je to najposvätnejšia geometria\, akú ľudstvo pozná. Sri Yantra má hlboký vplyv na človeka\, ktorý ju kreslí\, maľuje alebo študuje. Má deväť vrstiev a každá úroveň má svoju vlastnú štruktúru a skrytú tajnú múdrosť. Sri Yantra nám poskytuje cestu k Božstvu v našom vnútri. \nVEDELI STE\, ŽE?\nSri Yantra má hlboký účinok na osobu\, ktorá ju kreslí\, maľuje alebo o nej medituje. Pomáha ovládať myseľ a zmysly\, ako aj vytvárať vysokú energetickú frekvenciu\, ktorá nám pomáha transformovať negatívnu energiu okolia na pozitívnejšie vibrácie. \nNa absolvovanie kurzu sa nevyžadujú žiadne predchádzajúce znalosti ani zručnosti\, pridať sa môže každý od minimálneho veku 15 rokov. \n„Duálne vlastnosti sú aj v nás\, a ten\, kto je sústredený\, má tieto vlastnosti v rovnováhe.“\nParamahamsa Vishwananda \nOBSAH KURZU\nNaučiť sa zostrojiť celú Sri Yantru.\nPrehĺbenie zážitku tohto vysokoenergetického stavu\, ktorý má schopnosť podporovať vnútornú cestu.\nRysovanie Sri Yantry v skupine\, čo podporuje koncentráciu. \nMožnosť zľavy\nNárok na 15 % zľavu majú:\n– Študenti\n– Dôchodcovia\n– Nezamestnaní (celá rodina nezamestnaná)\n– Osamelí rodičia\n– Ďalší rodinní príslušníci\, ak prídu na kurz spoločne\nNárok na 15 % zľavu sa neuplatňuje\, ak má osoba primeraný príjem.\nAk spĺňate podmienky na zľavu\, kotaktujte Ranganayaki pre získanie zľavového kupónu\, ktorý si môžete uplatniť pri registrácii na kurz. Zľavu je potrebné odkomunikovať pred registráciou. \nRysovanie Sri Yantry s kreatívnou meditáciou\nV prípade záujmu si môžete so zľavou zakúpiť tento kurz rysovania v kombinácii s kurzom kreatívnej meditácie so Sri Yantrou na nasledujúci deň – pozri vstupenky. (link na kurz SYH) \nKONTAKTY\nRegistrácia\, platba\, zľava\nRanganayaki\n+421 948 046 779\nregistracia@bhaktimarga.sk \nObsah kurzu – učiteľ\nChandrakala Dasi\n+421 908 699 259\nchandrakaladasi@bhaktimarga.sk
URL:https://bhaktimarga.sk/udalost/rysovanie-sri-yantry/
LOCATION:Levice – JUNIOR\, Andreja Sládkoviča 2041/2\, Levice
CATEGORIES:Duchovné umenie
ATTACH;FMTTYPE=image/png:https://bhaktimarga.sk/wp-content/uploads/2025/11/251122_RysovanieSY_CHD_ftw.png
ORGANIZER;CN="Chandrakaladasi":MAILTO:chandrakaladasi@bhaktimarga.sk
END:VEVENT
END:VCALENDAR