BEGIN:VCALENDAR
VERSION:2.0
PRODID:-//Bhakti Marga Slovensko - ECPv6.15.12.2//NONSGML v1.0//EN
CALSCALE:GREGORIAN
METHOD:PUBLISH
X-ORIGINAL-URL:https://bhaktimarga.sk
X-WR-CALDESC:Udalosti pre Bhakti Marga Slovensko
REFRESH-INTERVAL;VALUE=DURATION:PT1H
X-Robots-Tag:noindex
X-PUBLISHED-TTL:PT1H
BEGIN:VTIMEZONE
TZID:Europe/Bratislava
BEGIN:DAYLIGHT
TZOFFSETFROM:+0100
TZOFFSETTO:+0200
TZNAME:CEST
DTSTART:20240331T010000
END:DAYLIGHT
BEGIN:STANDARD
TZOFFSETFROM:+0200
TZOFFSETTO:+0100
TZNAME:CET
DTSTART:20241027T010000
END:STANDARD
BEGIN:DAYLIGHT
TZOFFSETFROM:+0100
TZOFFSETTO:+0200
TZNAME:CEST
DTSTART:20250330T010000
END:DAYLIGHT
BEGIN:STANDARD
TZOFFSETFROM:+0200
TZOFFSETTO:+0100
TZNAME:CET
DTSTART:20251026T010000
END:STANDARD
BEGIN:DAYLIGHT
TZOFFSETFROM:+0100
TZOFFSETTO:+0200
TZNAME:CEST
DTSTART:20260329T010000
END:DAYLIGHT
BEGIN:STANDARD
TZOFFSETFROM:+0200
TZOFFSETTO:+0100
TZNAME:CET
DTSTART:20261025T010000
END:STANDARD
END:VTIMEZONE
BEGIN:VEVENT
DTSTART;TZID=Europe/Bratislava:20251119T200000
DTEND;TZID=Europe/Bratislava:20251119T210000
DTSTAMP:20260419T205823
CREATED:20251103T173452Z
LAST-MODIFIED:20251108T163205Z
UID:10000860-1763582400-1763586000@bhaktimarga.sk
SUMMARY:Tādātmya Vedānta s Amara Nimai Dāsom
DESCRIPTION:Kurz s Rišim Amara Nimai Dasom ponúka 9 týždňov jasného a praktického úvodu do Tādātmya Vedānty\, učenia Paramahamsu Vishwanandu. Každé stretnutie spája vysvetlenia s príkladmi zo života a krátkymi meditáciami\, aby sa učenie stalo priamou skúsenosťou. Účastníci postupne prejdú témami ako prostriedky poznania (pramāṇy)\, vnútorné rozpoznanie duše (pratyabhijñā)\, podstata Śrí Hariho\, vlastné božské Ja\, materiálna realita\, jadro Tādātmya Vedānty\, Bhakti – cesta oddanosti – a najvyšší cieľ duchovnej praxe. Kurz pomáha pochopiť\, ako tieto princípy prehĺbia vzťah k Bohu\, objasnia zmysel stvorenia a prinesú konkrétne kroky\, ktoré možno hneď uplatniť v každodennom živote. \nAko môže filozofia zlepšiť náš život?\nPrečo je taká dôležitá?\nJednoduchý úvod do hinduistickej filozofie (Vedānta)\nTradícia Bhakti Margy\nAko možno filozofiu uplatniť vo svojom živote?\nKrátka meditácia \nNa vzdelávanie sa môžete pripojiť cez tento link: https://us06web.zoom.us/j/86598659780
URL:https://bhaktimarga.sk/udalost/tadatmya-vedanta-s-amara-nimai-dasom/
LOCATION:Zoom – videokonferencia | Ako sa pripojím k zoom videohovoru?
CATEGORIES:Vzdelávanie
ATTACH;FMTTYPE=image/png:https://bhaktimarga.sk/wp-content/uploads/2025/11/2511_2601_Tadatmya_AND_FTW.png
END:VEVENT
END:VCALENDAR