BEGIN:VCALENDAR
VERSION:2.0
PRODID:-//Bhakti Marga Slovensko - ECPv6.15.12.2//NONSGML v1.0//EN
CALSCALE:GREGORIAN
METHOD:PUBLISH
X-WR-CALNAME:Bhakti Marga Slovensko
X-ORIGINAL-URL:https://bhaktimarga.sk
X-WR-CALDESC:Udalosti pre Bhakti Marga Slovensko
REFRESH-INTERVAL;VALUE=DURATION:PT1H
X-Robots-Tag:noindex
X-PUBLISHED-TTL:PT1H
BEGIN:VTIMEZONE
TZID:Europe/Bratislava
BEGIN:DAYLIGHT
TZOFFSETFROM:+0100
TZOFFSETTO:+0200
TZNAME:CEST
DTSTART:20240331T010000
END:DAYLIGHT
BEGIN:STANDARD
TZOFFSETFROM:+0200
TZOFFSETTO:+0100
TZNAME:CET
DTSTART:20241027T010000
END:STANDARD
BEGIN:DAYLIGHT
TZOFFSETFROM:+0100
TZOFFSETTO:+0200
TZNAME:CEST
DTSTART:20250330T010000
END:DAYLIGHT
BEGIN:STANDARD
TZOFFSETFROM:+0200
TZOFFSETTO:+0100
TZNAME:CET
DTSTART:20251026T010000
END:STANDARD
BEGIN:DAYLIGHT
TZOFFSETFROM:+0100
TZOFFSETTO:+0200
TZNAME:CEST
DTSTART:20260329T010000
END:DAYLIGHT
BEGIN:STANDARD
TZOFFSETFROM:+0200
TZOFFSETTO:+0100
TZNAME:CET
DTSTART:20261025T010000
END:STANDARD
END:VTIMEZONE
BEGIN:VEVENT
DTSTART;TZID=Europe/Bratislava:20251113T170000
DTEND;TZID=Europe/Bratislava:20251113T190000
DTSTAMP:20260419T205700
CREATED:20251103T160427Z
LAST-MODIFIED:20251105T185317Z
UID:10000857-1763053200-1763060400@bhaktimarga.sk
SUMMARY:Jagňa s Damódaránandom
DESCRIPTION:Srdečne vás pozývame na spoločné stretnutie\, kde sa ponoríme do transformačných rituálov s hlbokým duchovným účinkom. \nV atmosfére pokoja\, oddanosti a otvoreného srdca si doprajeme priestor na stíšenie\, načerpanie vnútornej sily a spojenie s Božou prítomnosťou. \nČo nás čaká:\nJagňa – starodávny védsky ohňový obrad\, počas ktorého sa mantry\, byliny\, ovocie\, kvety a rôzne iné obety rituálnym spôsobom vkladajú do ohňa na znak odovzdania a očisty. \nOheň predstavuje božskú energiu\, ktorá premieňa všetko ťažké a nečisté na svetlo a požehnanie.\nJagňa pomáha očistiť myseľ\, karmu a priestor\, prináša vnútorný mier\, rovnováhu a ochranu\, pre nás\, našich blízkych aj celé prostredie. \nPo skončení jagne bude priestor pre spoločné zdieľanie zážitkov a skúseností z duchovnej cesty\, ktoré nás môžu vzájomne obohatiť a inšpirovať. \nPočas stretnutia bude pripravené vegánske občerstvenie.\nAk máte chuť prispieť niečím vlastným\, budeme sa tešiť! \nVstupné: dobrovoľný príspevok
URL:https://bhaktimarga.sk/udalost/jagna-s-damodaranandom/
LOCATION:Veľaty\, Okružná 280/10\, Veľaty\, Slovakia (Slovak Republic)
CATEGORIES:Rituály
ATTACH;FMTTYPE=image/png:https://bhaktimarga.sk/wp-content/uploads/2025/11/251113_JagnaKE_ChD_FTW.png
ORGANIZER;CN="Chandrakaladasi":MAILTO:chandrakaladasi@bhaktimarga.sk
END:VEVENT
END:VCALENDAR