BEGIN:VCALENDAR
VERSION:2.0
PRODID:-//Bhakti Marga Slovensko - ECPv6.15.12.2//NONSGML v1.0//EN
CALSCALE:GREGORIAN
METHOD:PUBLISH
X-WR-CALNAME:Bhakti Marga Slovensko
X-ORIGINAL-URL:https://bhaktimarga.sk
X-WR-CALDESC:Udalosti pre Bhakti Marga Slovensko
REFRESH-INTERVAL;VALUE=DURATION:PT1H
X-Robots-Tag:noindex
X-PUBLISHED-TTL:PT1H
BEGIN:VTIMEZONE
TZID:Europe/Bratislava
BEGIN:DAYLIGHT
TZOFFSETFROM:+0100
TZOFFSETTO:+0200
TZNAME:CEST
DTSTART:20240331T010000
END:DAYLIGHT
BEGIN:STANDARD
TZOFFSETFROM:+0200
TZOFFSETTO:+0100
TZNAME:CET
DTSTART:20241027T010000
END:STANDARD
BEGIN:DAYLIGHT
TZOFFSETFROM:+0100
TZOFFSETTO:+0200
TZNAME:CEST
DTSTART:20250330T010000
END:DAYLIGHT
BEGIN:STANDARD
TZOFFSETFROM:+0200
TZOFFSETTO:+0100
TZNAME:CET
DTSTART:20251026T010000
END:STANDARD
BEGIN:DAYLIGHT
TZOFFSETFROM:+0100
TZOFFSETTO:+0200
TZNAME:CEST
DTSTART:20260329T010000
END:DAYLIGHT
BEGIN:STANDARD
TZOFFSETFROM:+0200
TZOFFSETTO:+0100
TZNAME:CET
DTSTART:20261025T010000
END:STANDARD
END:VTIMEZONE
BEGIN:VEVENT
DTSTART;VALUE=DATE:20251008
DTEND;VALUE=DATE:20251013
DTSTAMP:20260419T221546
CREATED:20250401T191433Z
LAST-MODIFIED:20250708T182038Z
UID:10000816-1759881600-1760313599@bhaktimarga.sk
SUMMARY:Púť do ášramu Shree Peetha Nilaya
DESCRIPTION:Púť do ášramu Shree Peetha Nilaya je vždy nezabudnuteľným zážitkom. Shree Peetha Nilaya znamená domov Božskej Matky\, a tam\, kde je Božská Matka\, musí byť vždy aj Boh\, Nárájena. \n„Už samotná prítomnosť tu je požehnaním. Ani si neuvedomujete\, že každá časť tohto miesta nesie požehnanie Mahá-Lakšmí. Všetko\, čo vidíte vonku\, je len dráma\, ale toto celé miesto je preniknuté požehnaním a milosťou. Shree Peetha Nilaya nie je len to\, čo vidíte fyzickými očami. Je v ňom iná realita\, a tú môžete vidieť\, len keď máte otvorené vnútorné oči.“\nParamahamsa Vishwananda \nBohatý program zaplní účastníkom púte celé dni. Jeho súčasťou sú modlitby\, prehliadka ášramu\, prednášky a\, samozrejme\, daršan Paramahamsu Vishwanandu. Celý program si pozrite na nemeckej stránke udalosti. \nREGISTRUJ SA NA PÚŤ \nVstupenky si môžete zakúpiť priamo na nemeckej stránke udalosti a do 15. augusta. Cena zahŕňa ubytovanie\, celodennú stravu a aktivity\, ktoré sú súčasťou programu. Pohybuje sa v rozmedzí 250-345 Eur v závislosti od typu ubytovania. \n✅ Zľavové kupóny na ubytovanie pre deti a študentov:\n–     ZĽAVA 100 %: Vek 0-5 rokov\, zdarma. Použite kód: BMSUPPORT100\n–     ZĽAVA 75 %: Vek 6-15 rokov\, zľava 75 %. Použite kód: BMSUPPORT75\n–     ŠTUDENTSKÁ ZĽAVA: Vek 16-24 rokov\, 25% zľava pre študentov. Použite kód: BMSUPPORT25\n–     plná cena: Vek 16 rokov a viac. \n✅ Storno podmienky:\n–     Pri zrušení rezervácie v období od 6. týždňa (42 dní) do 7 dní pred príchodom: 20% storno poplatok.\n–     Pri zrušení od 6 dní do 24 hodín pred príchodom: 50 % storno poplatok.\n–     Pri zrušení menej ako 24 hodín pred príchodom: 100 % storno poplatok.\nhttps://events.bhaktimarga.org/policies/terms-of-service.html?locale=en-DE \nREGISTRUJ SA NA PÚŤ
URL:https://bhaktimarga.sk/udalost/put-do-asramu-shree-peetha-nilaya/
LOCATION:Ášram Shree Peetha Nilaya\, Germany
CATEGORIES:Životný štýl
ATTACH;FMTTYPE=image/png:https://bhaktimarga.sk/wp-content/uploads/2025/04/251008_Put_FTW.png
END:VEVENT
END:VCALENDAR