BEGIN:VCALENDAR
VERSION:2.0
PRODID:-//Bhakti Marga Slovensko - ECPv6.15.12.2//NONSGML v1.0//EN
CALSCALE:GREGORIAN
METHOD:PUBLISH
X-ORIGINAL-URL:https://bhaktimarga.sk
X-WR-CALDESC:Udalosti pre Bhakti Marga Slovensko
REFRESH-INTERVAL;VALUE=DURATION:PT1H
X-Robots-Tag:noindex
X-PUBLISHED-TTL:PT1H
BEGIN:VTIMEZONE
TZID:Europe/Bratislava
BEGIN:DAYLIGHT
TZOFFSETFROM:+0100
TZOFFSETTO:+0200
TZNAME:CEST
DTSTART:20240331T010000
END:DAYLIGHT
BEGIN:STANDARD
TZOFFSETFROM:+0200
TZOFFSETTO:+0100
TZNAME:CET
DTSTART:20241027T010000
END:STANDARD
BEGIN:DAYLIGHT
TZOFFSETFROM:+0100
TZOFFSETTO:+0200
TZNAME:CEST
DTSTART:20250330T010000
END:DAYLIGHT
BEGIN:STANDARD
TZOFFSETFROM:+0200
TZOFFSETTO:+0100
TZNAME:CET
DTSTART:20251026T010000
END:STANDARD
BEGIN:DAYLIGHT
TZOFFSETFROM:+0100
TZOFFSETTO:+0200
TZNAME:CEST
DTSTART:20260329T010000
END:DAYLIGHT
BEGIN:STANDARD
TZOFFSETFROM:+0200
TZOFFSETTO:+0100
TZNAME:CET
DTSTART:20261025T010000
END:STANDARD
END:VTIMEZONE
BEGIN:VEVENT
DTSTART;TZID=Europe/Bratislava:20250819T140000
DTEND;TZID=Europe/Bratislava:20250819T170000
DTSTAMP:20260420T011728
CREATED:20250805T145257Z
LAST-MODIFIED:20250819T184359Z
UID:10000845-1755612000-1755622800@bhaktimarga.sk
SUMMARY:Kreatívna meditácia so Sri Yantrou
DESCRIPTION:Sri Yantra je najmocnejšia geometrická forma\, ktorá v sebe nesie božskú energiu. Predstavuje podstatu stvorenia a matricu vesmíru. Prístupom k tejto energii v deviatich krokoch sa zladíme s prirodzeným tokom života a vstúpime do vzťahu s Božskou Matkou. \nPozoruhodným aspektom Sri Yantry je jej schopnosť transformovať negatívnu energiu v nás a v našom okolí na pozitívnu energiu. Keď ju umiestnime určitým smerom\, prináša duchovný prospech a materiálnu prosperitu. Táto tajná geometria obnovuje rovnováhu a vitalitu a môže sa používať na liečebné účely. \nAko ľudské bytosti sme mikrokozmami univerzálneho makrokozmu a Sri Yantra je prítomná aj v nás. Maľovaním\, kreslením alebo meditáciou o nej môžeme získať kontrolu nad svojou mysľou a zvýšiť vibrácie celého tela. \nPripravte sa na introspektívnu cestu\, ktorá vás zavedie späť do jadra vášho srdca. \n„Sri Yantra vám dáva všetky dobré vlastnosti\, ktoré potrebujete na dosiahnutie najvyššieho cieľa života.“\nParamahamsa Vishwananda \nČO OČAKÁVAŤ?\nKurz trvá tri hodiny a zahŕňa úvod do Sri Yantry\, vysvetlenie techník a materiálov na maľovanie a meditáciu s farebnou vizualizáciou a afirmáciami krok za krokom. Tento kurz je jednoduchý\, ale silný a nevyžaduje si žiadne predchádzajúce skúsenosti. \nPODMIENKY ÚČASTI\nMinimálny vek účastníka je 15 rokov. \nMOŽNOSŤ ZĽAVY \nNárok na 15 % zľavu majú:\n– Študenti\n– Dôchodcovia\n– Nezamestnaní (celá rodina nezamestnaná)\n– Osamelí rodičia\n– Ďalší rodinní príslušníci\, ak prídu na kurz spoločne \nNárok na 15 % zľavu sa neuplatňuje\, ak má osoba primeraný príjem.\nAk spĺňate podmienky na zľavu\, kotaktujte Ranganayaki pre získanie zľavového kupónu\, ktorý si môžete uplatniť pri registrácii na kurz. Zľavu je potrebné odkomunikovať pred registráciou. \nKONTAKTY\nRegistrácia\, platba\, informácie o mieste konania\nRanganayaki\n+421 948 046 779\nregistracia@bhaktimarga.sk \nObsah kurzu – učiteľ\nSaumya Dasi\n+421 903 110 111\nsaumyadasi@bhaktimarga.sk
URL:https://bhaktimarga.sk/udalost/kreativna-meditacia-so-sri-yantrou-3/
LOCATION:Holíč\, Active club\, Školská 3031\, Holíč
CATEGORIES:Duchovné umenie
ATTACH;FMTTYPE=image/png:https://bhaktimarga.sk/wp-content/uploads/2025/08/250819_SY_SD_ftw.png
ORGANIZER;CN="Saumya Dasi":MAILTO:saumyadasi@bhaktimarga.sk
END:VEVENT
END:VCALENDAR