BEGIN:VCALENDAR
VERSION:2.0
PRODID:-//Bhakti Marga Slovensko - ECPv6.15.12.2//NONSGML v1.0//EN
CALSCALE:GREGORIAN
METHOD:PUBLISH
X-ORIGINAL-URL:https://bhaktimarga.sk
X-WR-CALDESC:Udalosti pre Bhakti Marga Slovensko
REFRESH-INTERVAL;VALUE=DURATION:PT1H
X-Robots-Tag:noindex
X-PUBLISHED-TTL:PT1H
BEGIN:VTIMEZONE
TZID:Europe/Bratislava
BEGIN:DAYLIGHT
TZOFFSETFROM:+0100
TZOFFSETTO:+0200
TZNAME:CEST
DTSTART:20240331T010000
END:DAYLIGHT
BEGIN:STANDARD
TZOFFSETFROM:+0200
TZOFFSETTO:+0100
TZNAME:CET
DTSTART:20241027T010000
END:STANDARD
BEGIN:DAYLIGHT
TZOFFSETFROM:+0100
TZOFFSETTO:+0200
TZNAME:CEST
DTSTART:20250330T010000
END:DAYLIGHT
BEGIN:STANDARD
TZOFFSETFROM:+0200
TZOFFSETTO:+0100
TZNAME:CET
DTSTART:20251026T010000
END:STANDARD
BEGIN:DAYLIGHT
TZOFFSETFROM:+0100
TZOFFSETTO:+0200
TZNAME:CEST
DTSTART:20260329T010000
END:DAYLIGHT
BEGIN:STANDARD
TZOFFSETFROM:+0200
TZOFFSETTO:+0100
TZNAME:CET
DTSTART:20261025T010000
END:STANDARD
END:VTIMEZONE
BEGIN:VEVENT
DTSTART;TZID=Europe/Bratislava:20250614T100000
DTEND;TZID=Europe/Bratislava:20250614T150000
DTSTAMP:20260420T040116
CREATED:20250406T172944Z
LAST-MODIFIED:20250430T152034Z
UID:10000828-1749895200-1749913200@bhaktimarga.sk
SUMMARY:Gurudžího narodeniny
DESCRIPTION:Nárok na zľavnenú vstupenku majú:\n– študenti\,\n– dôchodcovia\,\n– nezamestnaní (ak je celá rodina nezamestnaná)\,\n– osamelí rodičia\,\n– ďalší rodinní príslušníci\, ak prídu na kurz spoločne.\nNárok na zľavnenú vstupenku sa neuplatňuje\, ak má osoba primeraný príjem. \nSrdečne pozývame všetkých oddaných nasledovníkov a priaznivcov Paramahamsu Vishwanandu na oslavu jeho narodenín. Tento deň je oslavou radosti z Gurudžího príchodu na svet. Gurudží je pre nás symbolom múdrosti\, lásky a duchovného vedenia. Jeho prítomnosť v našich životoch prináša svetlo a inšpiráciu\, a preto túto oslavu vnímame ako výnimočnú príležitosť prejaviť mu vďačnosť a oddanosť. \nPrečo prísť práve na oslavu Gurudžího narodenín? Toto je čas prežiť jedinečné momenty spojenia s božskou energiou\, prečistiť svoju myseľ a pripraviť si cestu pre nové požehnania a duchovný rast. Oslava Gurudžího narodenín nie je len o uctievaní nášho Majstra\, ale aj o budovaní silnej sanghy. Tu sa môžete podeliť o svoje skúsenosti\, počúvať príbehy iných a spoločne sa navzájom inšpirovať na našej ceste duchovného rozvoja. \nPridajte sa k nám na oslavu Gurudžího narodenín a zažite okamihy plné duchovnej hĺbky\, lásky a oddanosti. Nech sa vaše srdce naplní radosťou a vaše životy budú preniknuté bohatstvom Gurudžího múdrosti a lásky. Tešíme sa na vás a na spoločné prežitie tohto zázračného dňa. \nPrineste si vlastné karimatky\, vankúšiky na sedenie\, prípadne deku\, ak potrebujete. \nProgram:\nGuru-púdžá\nRádhá-Krišna-púdžá\nJagňa\nObed\nSatsang \nViac informácií:\nRadhi\nchram@bhaktimarga.sk\n+421 948 109 927
URL:https://bhaktimarga.sk/udalost/gurudziho-narodeniny-14-6-2025/
LOCATION:Chrám Šrí Šrí Rádhá Dajajutája Krišna\, Levice\, Slovenská republika
CATEGORIES:Oslavy
ATTACH;FMTTYPE=image/jpeg:https://bhaktimarga.sk/wp-content/uploads/2025/04/250614_Gurudziho-narodeniny_R_FTW.jpg
ORGANIZER;CN="Radhi":MAILTO:ritualy@bhaktimarga.sk
END:VEVENT
END:VCALENDAR