BEGIN:VCALENDAR
VERSION:2.0
PRODID:-//Bhakti Marga Slovensko - ECPv6.15.12.2//NONSGML v1.0//EN
CALSCALE:GREGORIAN
METHOD:PUBLISH
X-ORIGINAL-URL:https://bhaktimarga.sk
X-WR-CALDESC:Udalosti pre Bhakti Marga Slovensko
REFRESH-INTERVAL;VALUE=DURATION:PT1H
X-Robots-Tag:noindex
X-PUBLISHED-TTL:PT1H
BEGIN:VTIMEZONE
TZID:Europe/Bratislava
BEGIN:DAYLIGHT
TZOFFSETFROM:+0100
TZOFFSETTO:+0200
TZNAME:CEST
DTSTART:20240331T010000
END:DAYLIGHT
BEGIN:STANDARD
TZOFFSETFROM:+0200
TZOFFSETTO:+0100
TZNAME:CET
DTSTART:20241027T010000
END:STANDARD
BEGIN:DAYLIGHT
TZOFFSETFROM:+0100
TZOFFSETTO:+0200
TZNAME:CEST
DTSTART:20250330T010000
END:DAYLIGHT
BEGIN:STANDARD
TZOFFSETFROM:+0200
TZOFFSETTO:+0100
TZNAME:CET
DTSTART:20251026T010000
END:STANDARD
BEGIN:DAYLIGHT
TZOFFSETFROM:+0100
TZOFFSETTO:+0200
TZNAME:CEST
DTSTART:20260329T010000
END:DAYLIGHT
BEGIN:STANDARD
TZOFFSETFROM:+0200
TZOFFSETTO:+0100
TZNAME:CET
DTSTART:20261025T010000
END:STANDARD
END:VTIMEZONE
BEGIN:VEVENT
DTSTART;TZID=Europe/Bratislava:20250609T200000
DTEND;TZID=Europe/Bratislava:20250609T210000
DTSTAMP:20260420T041417
CREATED:20250129T182331Z
LAST-MODIFIED:20250302T200748Z
UID:10000801-1749499200-1749502800@bhaktimarga.sk
SUMMARY:Vzdelávanie
DESCRIPTION:Milí oddaní\, nasledovníci a priaznivci\, \nSrdečne vás pozývame vzdelávať sa pod vedením učiteľov BM Academy na témy hinduizmu\, vaišnavizmu\, svätých písiem a mnoho iných dôležitých tém\, ktoré sa zídu na vašej duchovnej ceste. \nPre tých z vás\, ktorí sa nemôžu zúčastniť osobne ponúkame online vysielanie. Pripojiť sa môžete v uvedenom čase a následne každý pondelok párneho týždňa v rovnakom čase tu: \nJoin Zoom Meeting\nhttps://us06web.zoom.us/j/81129644360 \nMeeting ID: 811 2964 4360 \nNie je nutné mať žiadne poznatky v daných oblastiach vopred a vítaní sú taktiež aj ľudia\, ktorí majú už poznatky\, môžeme diskutovať viac do hĺbky. \nTešíme sa na každého účastníka\, ktorý má chuť dozvedieť sa niečo viac!
URL:https://bhaktimarga.sk/udalost/vzdelavanie-11-2/2025-06-09/
LOCATION:Zoom – videokonferencia | Ako sa pripojím k zoom videohovoru?
CATEGORIES:Vzdelávanie
ATTACH;FMTTYPE=image/jpeg:https://bhaktimarga.sk/wp-content/uploads/2025/01/2025_VZ_R_FTW-1.jpg
END:VEVENT
END:VCALENDAR