BEGIN:VCALENDAR
VERSION:2.0
PRODID:-//Bhakti Marga Slovensko - ECPv6.15.12.2//NONSGML v1.0//EN
CALSCALE:GREGORIAN
METHOD:PUBLISH
X-WR-CALNAME:Bhakti Marga Slovensko
X-ORIGINAL-URL:https://bhaktimarga.sk
X-WR-CALDESC:Udalosti pre Bhakti Marga Slovensko
REFRESH-INTERVAL;VALUE=DURATION:PT1H
X-Robots-Tag:noindex
X-PUBLISHED-TTL:PT1H
BEGIN:VTIMEZONE
TZID:Europe/Bratislava
BEGIN:DAYLIGHT
TZOFFSETFROM:+0100
TZOFFSETTO:+0200
TZNAME:CEST
DTSTART:20240331T010000
END:DAYLIGHT
BEGIN:STANDARD
TZOFFSETFROM:+0200
TZOFFSETTO:+0100
TZNAME:CET
DTSTART:20241027T010000
END:STANDARD
BEGIN:DAYLIGHT
TZOFFSETFROM:+0100
TZOFFSETTO:+0200
TZNAME:CEST
DTSTART:20250330T010000
END:DAYLIGHT
BEGIN:STANDARD
TZOFFSETFROM:+0200
TZOFFSETTO:+0100
TZNAME:CET
DTSTART:20251026T010000
END:STANDARD
BEGIN:DAYLIGHT
TZOFFSETFROM:+0100
TZOFFSETTO:+0200
TZNAME:CEST
DTSTART:20260329T010000
END:DAYLIGHT
BEGIN:STANDARD
TZOFFSETFROM:+0200
TZOFFSETTO:+0100
TZNAME:CET
DTSTART:20261025T010000
END:STANDARD
END:VTIMEZONE
BEGIN:VEVENT
DTSTART;TZID=Europe/Bratislava:20250531T120000
DTEND;TZID=Europe/Bratislava:20250531T220000
DTSTAMP:20260420T040551
CREATED:20250514T183042Z
LAST-MODIFIED:20250514T183420Z
UID:10000836-1748692800-1748728800@bhaktimarga.sk
SUMMARY:Osobný daršan v Prahe 2025
DESCRIPTION:Daršan znamená vidieť a byť videný Bohom. \nDostať požehnanie\, daršan\, od plne osvieteného duchovného Majstra je veľmi vzácna a výnimočná udalosť. \nKaždý je srdečne vítaný bez ohľadu na vek\, pôvod\, vieru alebo životnú filozofiu. \nPrijmite naše pozvanie na osobný daršan Paramahamsu Vishwanandu v Českej republike 31. mája 2025 o 14.00 hod. v TOP HOTEL Praha\, Blažimská 1781\, Praha 4. \n„Keď prídete na daršan\, nazriem vám do duše a vidím vaše skutočné Ja. Vidím krásu\, ktorú v sebe máte. Prajem si\, aby ste tu nádheru uvideli tiež a uvedomili si ju.“\nParamahamsa Vishwananda \nSúčasťou udalosti sú aj sprievodné akcie vrátane prednášok\, ukážok techník\, Bhakti obchodík a možnosť zakúpiť si občerstvenie. \nViac podrobnejších informácií a registráciu nájdete na českých stránkach Bhakti Margy: https://www.bhaktimarga.cz/darsan-2025/
URL:https://bhaktimarga.sk/udalost/osobny-darsan-v-prahe-2025/
LOCATION:TOP HOTEL Praha\, Blažimská 1781/4\,\, Praha 11 – Chodov\, Czech Republic
CATEGORIES:Udalosti s Gurudžím
ATTACH;FMTTYPE=image/jpeg:https://bhaktimarga.sk/wp-content/uploads/2025/05/250531_Darsan-Praha_web-scaled.jpg
END:VEVENT
END:VCALENDAR