BEGIN:VCALENDAR
VERSION:2.0
PRODID:-//Bhakti Marga Slovensko - ECPv6.15.12.2//NONSGML v1.0//EN
CALSCALE:GREGORIAN
METHOD:PUBLISH
X-ORIGINAL-URL:https://bhaktimarga.sk
X-WR-CALDESC:Udalosti pre Bhakti Marga Slovensko
REFRESH-INTERVAL;VALUE=DURATION:PT1H
X-Robots-Tag:noindex
X-PUBLISHED-TTL:PT1H
BEGIN:VTIMEZONE
TZID:Europe/Bratislava
BEGIN:DAYLIGHT
TZOFFSETFROM:+0100
TZOFFSETTO:+0200
TZNAME:CEST
DTSTART:20240331T010000
END:DAYLIGHT
BEGIN:STANDARD
TZOFFSETFROM:+0200
TZOFFSETTO:+0100
TZNAME:CET
DTSTART:20241027T010000
END:STANDARD
BEGIN:DAYLIGHT
TZOFFSETFROM:+0100
TZOFFSETTO:+0200
TZNAME:CEST
DTSTART:20250330T010000
END:DAYLIGHT
BEGIN:STANDARD
TZOFFSETFROM:+0200
TZOFFSETTO:+0100
TZNAME:CET
DTSTART:20251026T010000
END:STANDARD
BEGIN:DAYLIGHT
TZOFFSETFROM:+0100
TZOFFSETTO:+0200
TZNAME:CEST
DTSTART:20260329T010000
END:DAYLIGHT
BEGIN:STANDARD
TZOFFSETFROM:+0200
TZOFFSETTO:+0100
TZNAME:CET
DTSTART:20261025T010000
END:STANDARD
END:VTIMEZONE
BEGIN:VEVENT
DTSTART;TZID=Europe/Bratislava:20250427T100000
DTEND;TZID=Europe/Bratislava:20250427T113000
DTSTAMP:20260420T072130
CREATED:20250318T201852Z
LAST-MODIFIED:20250318T201852Z
UID:10000810-1745748000-1745753400@bhaktimarga.sk
SUMMARY:Spoločné cvičenie Atma Kriya Yogy
DESCRIPTION:Pozývame vás na spoločné cvičenie Atma Kriya Yogy.  Počas tejto aktivity sa môžeme navzájom prepojiť\, zažiť lásku a hĺbku krije spoločnou online praxou. \nVrelo odporúčané skupinové cvičenie Atma Kriya Yogy\, uľahčuje koncentráciu na svoju prax. Zároveň je úžasné vedieť\, že rodina krijá jogínov cvičí súčasne s vami. \nZamerajte sa na lásku vo vašom vnútri a pripojte sa k nám. \nAk by ste chceli finančne podporiť Bhakti Marga Slovensko\, môžete tak urobiť na účet SK27 1111 0000 0013 5308 2018. Do poznámky prosím uveďte DAR alebo môžete príspevok odoslať cez platobnú bránu tu: https://bhaktimarga.sk/dary/financne-dary/ \nK online cvičeniu sa môžete pripojiť cez aplikáciu Zoom tu: https://us06web.zoom.us/j/84187032004 \nMeeting ID: 841 8703 2004
URL:https://bhaktimarga.sk/udalost/spolocne-cvicenie-aky-27-4-2025/
LOCATION:Zoom – videokonferencia | Ako sa pripojím k zoom videohovoru?
CATEGORIES:Joga a meditácia
ATTACH;FMTTYPE=image/png:https://bhaktimarga.sk/wp-content/uploads/2025/02/250427_AKY-cvicenie_A_FTW.png
ORGANIZER;CN="Avaari":MAILTO:avaari@bhaktimarga.sk
END:VEVENT
END:VCALENDAR