BEGIN:VCALENDAR
VERSION:2.0
PRODID:-//Bhakti Marga Slovensko - ECPv6.15.12.2//NONSGML v1.0//EN
CALSCALE:GREGORIAN
METHOD:PUBLISH
X-ORIGINAL-URL:https://bhaktimarga.sk
X-WR-CALDESC:Udalosti pre Bhakti Marga Slovensko
REFRESH-INTERVAL;VALUE=DURATION:PT1H
X-Robots-Tag:noindex
X-PUBLISHED-TTL:PT1H
BEGIN:VTIMEZONE
TZID:Europe/Bratislava
BEGIN:DAYLIGHT
TZOFFSETFROM:+0100
TZOFFSETTO:+0200
TZNAME:CEST
DTSTART:20240331T010000
END:DAYLIGHT
BEGIN:STANDARD
TZOFFSETFROM:+0200
TZOFFSETTO:+0100
TZNAME:CET
DTSTART:20241027T010000
END:STANDARD
BEGIN:DAYLIGHT
TZOFFSETFROM:+0100
TZOFFSETTO:+0200
TZNAME:CEST
DTSTART:20250330T010000
END:DAYLIGHT
BEGIN:STANDARD
TZOFFSETFROM:+0200
TZOFFSETTO:+0100
TZNAME:CET
DTSTART:20251026T010000
END:STANDARD
BEGIN:DAYLIGHT
TZOFFSETFROM:+0100
TZOFFSETTO:+0200
TZNAME:CEST
DTSTART:20260329T010000
END:DAYLIGHT
BEGIN:STANDARD
TZOFFSETFROM:+0200
TZOFFSETTO:+0100
TZNAME:CET
DTSTART:20261025T010000
END:STANDARD
END:VTIMEZONE
BEGIN:VEVENT
DTSTART;TZID=Europe/Bratislava:20250419T160000
DTEND;TZID=Europe/Bratislava:20250419T190000
DTSTAMP:20260420T072130
CREATED:20250224T180608Z
LAST-MODIFIED:20250224T180608Z
UID:10000812-1745078400-1745089200@bhaktimarga.sk
SUMMARY:Kurz čantovania: Modlitby Bhakti Margy – chvála gurua
DESCRIPTION:S veľkou radosťou vám predstavujeme úplne nový cyklus čantovania: Bhakti čantovanie. Prvá časť z piatich bola venovaná výslovnosti\, najmä dlhým a krátkym samohláskam v sanskrite. Druhá časť venovala rytmu a veršom čantovania. V tretej časti sa ponoríme do modlitieb ku guruovi a povieme si o sanskrite. \nZámerom cyklu kurzov bhakti čantovania je viesť študentov od úplných začiatočníkov\, postupne ich previesť náročnejšími prvkami čantovania\, až po zvládnutie umenia čantovania. Začneme s intenzívnou prácou na správnej výslovnosti – varṇa\, s dôrazom na krátke a dlhé samohlásky\, čo vytvorí pevné základy pre ďalší postup. Následne sa pohneme do sveta čanda – rôznych druhov veršov\, kde sa oboznámime s rôznymi druhmi veršov a ich očarujúcim rytmom. Aby bola čantovacia zmes hotová\, pridáme hru s tónmi – svara\, čím čantovanie nadobudne výnimočnú hladkosť a harmóniu. V nadväzujúcich kurzoch sa budeme venovať modlitbám Bhakti Margy. Budeme prehlbovať oddanosť ku guruovi\, precvičíme si šruti mantry a napokon cyklus ukončíme štúdiom ďalšieho druhu textov\, zvaného smrti. \nOnline kurzy\, ktoré sa konajú v mesačných intervaloch\, si môžete vychutnať v pohodlí svojho domova. Ako bonus navyše\, dostanete aj prepis textu do nášho jednoduchého písma (latinky)\, aby ste mohli svoje vedomosti posilniť aj po skončení kurzu. A samozrejme\, nezabudli sme ani na audio nahrávky\, ktoré vám budú vernými spoločníkmi na vašej ceste za zvukom a vibráciou čantovania. \nTak neváhajte a pripojte sa k nám a tomuto jedinečnému dobrodružstvu poznania a prehĺbenia vašej duchovnej cesty. Získať nové zručnosti a prebudiť skrytý potenciál vo vašej duši ešte nikdy nebolo tak lákavé! Získajte jedinečnú šancu preniknúť do hlbín bhakti čantovania a nechajte sa očariť jeho kúzelnou esenciou. \nSte pripravení? Vaša cesta čantovania sa začína práve teraz! \nKONTAKTY\nRegistrácia\, platba\nRanganayaki\nregistracia@bhaktimarga.sk \nObsah kurzu\, informácie o mieste a priebehu kurzu\nDevakinandana Dasi\n+421 904 947 805\nritualy@bhaktimarga.sk
URL:https://bhaktimarga.sk/udalost/kurz-cantovania-modlitby-bhakti-margy-chvala-gurua/
LOCATION:Zoom – videokonferencia | Ako sa pripojím k zoom videohovoru?
CATEGORIES:Rituály
ATTACH;FMTTYPE=image/jpeg:https://bhaktimarga.sk/wp-content/uploads/2025/02/250419_CA_R_FTW.jpg
ORGANIZER;CN="Radhi":MAILTO:ritualy@bhaktimarga.sk
END:VEVENT
END:VCALENDAR