BEGIN:VCALENDAR
VERSION:2.0
PRODID:-//Bhakti Marga Slovensko - ECPv6.15.12.2//NONSGML v1.0//EN
CALSCALE:GREGORIAN
METHOD:PUBLISH
X-ORIGINAL-URL:https://bhaktimarga.sk
X-WR-CALDESC:Udalosti pre Bhakti Marga Slovensko
REFRESH-INTERVAL;VALUE=DURATION:PT1H
X-Robots-Tag:noindex
X-PUBLISHED-TTL:PT1H
BEGIN:VTIMEZONE
TZID:Europe/Bratislava
BEGIN:DAYLIGHT
TZOFFSETFROM:+0100
TZOFFSETTO:+0200
TZNAME:CEST
DTSTART:20240331T010000
END:DAYLIGHT
BEGIN:STANDARD
TZOFFSETFROM:+0200
TZOFFSETTO:+0100
TZNAME:CET
DTSTART:20241027T010000
END:STANDARD
BEGIN:DAYLIGHT
TZOFFSETFROM:+0100
TZOFFSETTO:+0200
TZNAME:CEST
DTSTART:20250330T010000
END:DAYLIGHT
BEGIN:STANDARD
TZOFFSETFROM:+0200
TZOFFSETTO:+0100
TZNAME:CET
DTSTART:20251026T010000
END:STANDARD
BEGIN:DAYLIGHT
TZOFFSETFROM:+0100
TZOFFSETTO:+0200
TZNAME:CEST
DTSTART:20260329T010000
END:DAYLIGHT
BEGIN:STANDARD
TZOFFSETFROM:+0200
TZOFFSETTO:+0100
TZNAME:CET
DTSTART:20261025T010000
END:STANDARD
END:VTIMEZONE
BEGIN:VEVENT
DTSTART;TZID=Europe/Bratislava:20250411T130000
DTEND;TZID=Europe/Bratislava:20250411T190000
DTSTAMP:20260420T072506
CREATED:20250326T191208Z
LAST-MODIFIED:20250326T194248Z
UID:10000813-1744376400-1744398000@bhaktimarga.sk
SUMMARY:Jogové popoludnie Holíč
DESCRIPTION:Srdečne vás pozývame na jogové popoludnie v Holíči. \nPROGRAM:\n13.00 Spoločné cvičenie Atma Kriya Yogy – len pre iniciovaných krijá-jogínov\n14.00 Mudry I\n16.00 Mudry II\n18.00 OM Chanting \nAtma Kriya Yoga je komplexný jogový systém\, ktorý pomáha ponoriť sa do srdca a spojiť sa s Bohom. Pozri viac informácií tu: Atma Kriya Yoga. \nMudry sú energetické gestá rúk a tela. Ich účelom je prečistenie vašich energetických dráh\, ktoré podporujú váš duchovný rast. Pomáhajú vám tiež byť silnejší a fyzicky v rovnováhe. Každá mudrá aktivuje\, prečisťuje a vyvažuje elementy vo vašom tele svojím vlastným spôsobom. Prehlbujú vaše fyzické\, emocionálne a duchovné zdravie a zlepšujú tok energie\, harmonizujú a posilňujú vás vo vašom každodennom živote. \nNa kurze MUDRY 1 sa naučíte mudry na: \n\nzlepšovanie koncentrácie a pamäte\ndosahovanie duchovných cieľov a odstraňovanie prekážok na ceste\npodporu zdravého srdca\nbezpodmienečné milovanie\nprečisťovanie pľúc\, pomoc pri nespavosti\nrozvíjanie súcitu\nodpúšťanie\nprečisťovanie toku energie\numocňovanie Božích darov\nrozpúšťanie ega a pýchy\n\nNa kurze MUDRY 2 sa naučíte mudry na: \n\npokoru\, toleranciu\, súcit\, lásku a trpezlivosť\npozitivitu\, sebavedomie\, prekonávanie stresu a problémov v živote\nšťastie\, radosť\, charizmu\nzdravé telo a fyzickú silu\nsústredenosť\, zameranosť a oddanosť\nsplnenie prianí\npriťahovanie toho\, čo chceme\nodstránenie strachu\, stresu a hnevu z mysle\numocňovanie Božích darov\nrozpúšťanie ega a pýchy\n\nSú pre mňa mudry vhodné? \n\nKurzy mudier sú otvorené pre všetkých.\nNie sú žiadne vekové obmedzenia\, mudry môžu praktizovať aj deti.\nKeďže mudry využívajú vaše vlastné telesné energie\, nemajú žiadne zdravotné obmedzenia.\n\nOM Chanting je skupinová rezonančná technika vibrácie óm. Viac o OM Chantingu si prečítajte tu: OM Chanting. \nPodmienky zľavy \nNárok na 15 % zľavu majú:\n– Študenti\n– Dôchodcovia\n– Nezamestnaní (celá rodina nezamestnaná)\n– Osamelí rodičia\n– Ďalší rodinní príslušníci\, ak prídu na kurz spoločne \nNárok na 15 % zľavu sa neuplatňuje\, ak má osoba primeraný príjem. \nAk spĺňate podmienky na zľavu\, kontaktujte Ranganayaki pre získanie zľavového kupónu\, ktorý si môžete uplatniť pri registrácii na kurz. Zľavu je potrebné odkomunikovať pred registráciou. \nKONTAKTY\nRegistrácia\, platba\, zľava\nRanganayaki\n+421 948 046 779\nregistracia@bhaktimarga.sk \nObsah kurzu\, informácie o mieste a priebehu kurzu\nPanchali Dasi\n+421 915 092 404\nsadhana@bhaktimarga.sk \n  \n 
URL:https://bhaktimarga.sk/udalost/jogove-popoludnie-11-4-2025/
LOCATION:Holíč\, Active club\, Školská 3031\, Holíč
CATEGORIES:Joga a meditácia
ATTACH;FMTTYPE=image/png:https://bhaktimarga.sk/wp-content/uploads/2025/03/250411_jogove-popoludnie_A_FTW.png
ORGANIZER;CN="Avaari":MAILTO:avaari@bhaktimarga.sk
END:VEVENT
END:VCALENDAR