BEGIN:VCALENDAR
VERSION:2.0
PRODID:-//Bhakti Marga Slovensko - ECPv6.15.12.2//NONSGML v1.0//EN
CALSCALE:GREGORIAN
METHOD:PUBLISH
X-WR-CALNAME:Bhakti Marga Slovensko
X-ORIGINAL-URL:https://bhaktimarga.sk
X-WR-CALDESC:Udalosti pre Bhakti Marga Slovensko
REFRESH-INTERVAL;VALUE=DURATION:PT1H
X-Robots-Tag:noindex
X-PUBLISHED-TTL:PT1H
BEGIN:VTIMEZONE
TZID:Europe/Bratislava
BEGIN:DAYLIGHT
TZOFFSETFROM:+0100
TZOFFSETTO:+0200
TZNAME:CEST
DTSTART:20230326T010000
END:DAYLIGHT
BEGIN:STANDARD
TZOFFSETFROM:+0200
TZOFFSETTO:+0100
TZNAME:CET
DTSTART:20231029T010000
END:STANDARD
BEGIN:DAYLIGHT
TZOFFSETFROM:+0100
TZOFFSETTO:+0200
TZNAME:CEST
DTSTART:20240331T010000
END:DAYLIGHT
BEGIN:STANDARD
TZOFFSETFROM:+0200
TZOFFSETTO:+0100
TZNAME:CET
DTSTART:20241027T010000
END:STANDARD
BEGIN:DAYLIGHT
TZOFFSETFROM:+0100
TZOFFSETTO:+0200
TZNAME:CEST
DTSTART:20250330T010000
END:DAYLIGHT
BEGIN:STANDARD
TZOFFSETFROM:+0200
TZOFFSETTO:+0100
TZNAME:CET
DTSTART:20251026T010000
END:STANDARD
END:VTIMEZONE
BEGIN:VEVENT
DTSTART;TZID=Europe/Bratislava:20240406T100000
DTEND;TZID=Europe/Bratislava:20240407T130000
DTSTAMP:20260421T061035
CREATED:20240328T155923Z
LAST-MODIFIED:20240404T082004Z
UID:10000412-1712397600-1712494800@bhaktimarga.sk
SUMMARY:Atma Kriya Yoga
DESCRIPTION:Atma Kriya Yoga je silný súbor techník\, ktoré vám pomôžu rýchlo napredovať na vašej duchovnej ceste. Iniciácia\, šaktipát\, je dôvodom\, prečo je v súčasnosti najsilnejším dostupným druhom jogy. Tieto cvičenia vám poskytnú voľnosť a flexibilitu na vytvorenie každodennej praxe dokonale prispôsobenej vášmu životnému štýlu. \nNa kurze sa naučíte tieto techniky:\nDžapa – čantovanie prastarej sanskrtskej modlitby (mantry) naladí celú vašu bytosť na jej silné vibrácie a umožní prebudenie božských kvalít. \nMeditačné techniky – koncentrácia a sústredenie vám pomôžu zaviesť sebauvedomovanie do vašich každodenných činností\, aby ste mohli transcendovať dualitu ľudskej existencie. \nJoga zvuku – počúvanie symfónie vnútorných mystických zvukov vychádzajúcich zo srdcovej čakry posilní vašu intuíciu. \nOM Chanting – skupinové čantovanie vytvorí harmóniu\, pokoj a mier pre vás\, ostatných a okolie. \nPránájáma (dychové cvičenie) – pozorovanie a ovládanie dychu nastolí fyzickú a energetickú rovnováhu. \nÁsany – päť fyzických jogových pozícií podporí vašu meditačnú prax\, posilní imunitný systém a zvýši fyzickú vitalitu. \nMudry – joga prstov zjednotí energiu vášho tela\, aby ste mohli dosiahnuť svoj duchovný cieľ. \nHlavná krijá – táto čakrová meditácia vám pomôže zvyšovať vaše vedomie\, zjednocovať telo a dušu a spaľovať jeden rok karmy pri každom nádychu či výdychu. \nOchranný štít – vyzdvihnutie vibrácie energetických centier vás ochráni pred negativitou a dovolí\, aby cez vás žiarilo viac Božieho svetla. \n9 foriem bhakti – každá technika rozvíja rôzne formy bhakti – lásky k Bohu – privedie vás bližšie k realizácii. \nSúčasťou kurzu je:\nIniciácia – šaktipát\nAtma Kriya Yoga študijný manuál s presnými pokynmi a obrázkami každej techniky\nCertifikát \nJE PRE MŇA ATMA KRIYA YOGA VHODNÁ?\nNa to\, aby ste sa mohli začať učiť a praktizovať Atma Kriya Yogu\, musíte mať viac ako 16 rokov.\nCvičenia zahŕňajú niekoľko fyzických jogových pozícií. Ak máte nejaké fyzické zranenia alebo obmedzenia\, prosím\, konzultujte to s vaším lekárom\, aby ste sa uistili\, že môžete bez obáv cvičiť jogu. Váš učiteľ Atma Kriya Yogy vám pomôže s prispôsobením cvičenia.\nAk máte srdcové či mentálne problémy\, prosím\, kontaktujte kvalifikovaného učiteľa\, aby zistil\, či je pre vás vhodné cvičiť. Rovnako urobte\, ak ste práve v období tehotenstva.\nAtma Kriya Yoga môže očisťovať rôznymi spôsobmi: fyzicky\, emocionálne a duchovne. Je dôležité to vedieť a byť ochotný urobiť skutočné zmeny vo svojom živote. \nKEĎ STE INICIOVANÍ DO ATMA KRIYA YOGY A DOSTALI STE ŠAKTIPÁT\, VO VAŠOM VNÚTRI SA AKTIVUJE INÝ KANÁL. TENTO KANÁL JE MILOSŤ A POŽEHNANIE VŠETKÝCH GURUOV\, MUDRCOV A SVÄTCOV Z LÍNIE\, KTORÉ PRÚDIA Z MAJSTRA NA ŽIAKA ALEBO Z MAJSTRA NA UČITEĽA A POTOM Z UČITEĽA NA ŽIAKA.- Paramahamsa Šrí Svámí Vishwananda \nMáte záujem\, ale nevyhovuje vám čas?\nŽiaden problém. Ak vám tento dátum a čas nevyhovuje\, kontaktujte Atma Kriya Yoga učiteľa a dohodnite si náhradný termín. Učitelia majú možnosť učiť všetky techniky počas jedného stretnutia alebo rozdeliť učenie na niekoľko týždňov\, čo poskytne viac času na cvičenie. Radi s vami naplánujú kurz\, ktorý vám bude najviac vyhovovať. \nPobyty a cvičenia\nSpoločné cvičenie v skupine zosilňuje účinky cvičenia a buduje pocit spolupatričnosti ku komunite s rovnakými záujmami. V niektorých mestách sa organizujú takéto pravidelné cvičenia alebo aj celoslovenské pobyty\, počas ktorých si môžete objasniť techniky a upevniť a udžať svoju prax po dlhú dobu. Kontaktujte učiteľa Atma Kriya Yogy vo vašom okolí\, ktorý vám povie\, čo je práve k dispozícií. \nKONTAKTY\nRegistrácia\, platba\nRanganayaki\nregistracia@bhaktimarga.sk \nObsah kurzu\, informácie o mieste a priebehu kurzu\nPanchali Dasi\n+421 915 092 404\nsadhana@bhaktimarga.sk
URL:https://bhaktimarga.sk/udalost/aky-6-7-4-2024/
LOCATION:Raj zdravia\, Limbová 1A\, Bratislava - Nové Mesto\, Slovakia (Slovak Republic)
CATEGORIES:Joga a meditácia
ATTACH;FMTTYPE=image/png:https://bhaktimarga.sk/wp-content/uploads/2024/03/240406_AKY_A_FTW.png
ORGANIZER;CN="Avaari":MAILTO:avaari@bhaktimarga.sk
END:VEVENT
BEGIN:VEVENT
DTSTART;TZID=Europe/Bratislava:20240323T100000
DTEND;TZID=Europe/Bratislava:20240324T130000
DTSTAMP:20260421T061035
CREATED:20240305T192055Z
LAST-MODIFIED:20240307T082826Z
UID:10000405-1711188000-1711285200@bhaktimarga.sk
SUMMARY:Atma Kriya Yoga
DESCRIPTION:Atma Kriya Yoga je silný súbor techník\, ktoré vám pomôžu rýchlo napredovať na vašej duchovnej ceste. Iniciácia\, šaktipát\, je dôvodom\, prečo je v súčasnosti najsilnejším dostupným druhom jogy. Tieto cvičenia vám poskytnú voľnosť a flexibilitu na vytvorenie každodennej praxe dokonale prispôsobenej vášmu životnému štýlu. \nNa kurze sa naučíte tieto techniky:\nDžapa – čantovanie prastarej sanskrtskej modlitby (mantry) naladí celú vašu bytosť na jej silné vibrácie a umožní prebudenie božských kvalít. \nMeditačné techniky – koncentrácia a sústredenie vám pomôžu zaviesť sebauvedomovanie do vašich každodenných činností\, aby ste mohli transcendovať dualitu ľudskej existencie. \nJoga zvuku – počúvanie symfónie vnútorných mystických zvukov vychádzajúcich zo srdcovej čakry posilní vašu intuíciu. \nOM Chanting – skupinové čantovanie vytvorí harmóniu\, pokoj a mier pre vás\, ostatných a okolie. \nPránájáma (dychové cvičenie) – pozorovanie a ovládanie dychu nastolí fyzickú a energetickú rovnováhu. \nÁsany – päť fyzických jogových pozícií podporí vašu meditačnú prax\, posilní imunitný systém a zvýši fyzickú vitalitu. \nMudry – joga prstov zjednotí energiu vášho tela\, aby ste mohli dosiahnuť svoj duchovný cieľ. \nHlavná krijá – táto čakrová meditácia vám pomôže zvyšovať vaše vedomie\, zjednocovať telo a dušu a spaľovať jeden rok karmy pri každom nádychu či výdychu. \nOchranný štít – vyzdvihnutie vibrácie energetických centier vás ochráni pred negativitou a dovolí\, aby cez vás žiarilo viac Božieho svetla. \n9 foriem bhakti – každá technika rozvíja rôzne formy bhakti – lásky k Bohu – privedie vás bližšie k realizácii. \nSúčasťou kurzu je:\nIniciácia – šaktipát\nAtma Kriya Yoga študijný manuál s presnými pokynmi a obrázkami každej techniky\nCertifikát \nJE PRE MŇA ATMA KRIYA YOGA VHODNÁ?\nNa to\, aby ste sa mohli začať učiť a praktizovať Atma Kriya Yogu\, musíte mať viac ako 16 rokov.\nCvičenia zahŕňajú niekoľko fyzických jogových pozícií. Ak máte nejaké fyzické zranenia alebo obmedzenia\, prosím\, konzultujte to s vaším lekárom\, aby ste sa uistili\, že môžete bez obáv cvičiť jogu. Váš učiteľ Atma Kriya Yogy vám pomôže s prispôsobením cvičenia.\nAk máte srdcové či mentálne problémy\, prosím\, kontaktujte kvalifikovaného učiteľa\, aby zistil\, či je pre vás vhodné cvičiť. Rovnako urobte\, ak ste práve v období tehotenstva.\nAtma Kriya Yoga môže očisťovať rôznymi spôsobmi: fyzicky\, emocionálne a duchovne. Je dôležité to vedieť a byť ochotný urobiť skutočné zmeny vo svojom živote. \nKEĎ STE INICIOVANÍ DO ATMA KRIYA YOGY A DOSTALI STE ŠAKTIPÁT\, VO VAŠOM VNÚTRI SA AKTIVUJE INÝ KANÁL. TENTO KANÁL JE MILOSŤ A POŽEHNANIE VŠETKÝCH GURUOV\, MUDRCOV A SVÄTCOV Z LÍNIE\, KTORÉ PRÚDIA Z MAJSTRA NA ŽIAKA ALEBO Z MAJSTRA NA UČITEĽA A POTOM Z UČITEĽA NA ŽIAKA.- Paramahamsa Šrí Svámí Vishwananda \nMáte záujem\, ale nevyhovuje vám čas?\nŽiaden problém. Ak vám tento dátum a čas nevyhovuje\, kontaktujte Atma Kriya Yoga učiteľa a dohodnite si náhradný termín. Učitelia majú možnosť učiť všetky techniky počas jedného stretnutia alebo rozdeliť učenie na niekoľko týždňov\, čo poskytne viac času na cvičenie. Radi s vami naplánujú kurz\, ktorý vám bude najviac vyhovovať. \nPobyty a cvičenia\nSpoločné cvičenie v skupine zosilňuje účinky cvičenia a buduje pocit spolupatričnosti ku komunite s rovnakými záujmami. V niektorých mestách sa organizujú takéto pravidelné cvičenia alebo aj celoslovenské pobyty\, počas ktorých si môžete objasniť techniky a upevniť a udžať svoju prax po dlhú dobu. Kontaktujte učiteľa Atma Kriya Yogy vo vašom okolí\, ktorý vám povie\, čo je práve k dispozícií. \nKONTAKTY\nRegistrácia\, platba\nRanganayaki\nregistracia@bhaktimarga.sk \nObsah kurzu\, informácie o mieste a priebehu kurzu\nPanchali Dasi\n+421 915 092 404\nsadhana@bhaktimarga.sk
URL:https://bhaktimarga.sk/udalost/aky-yoga-online/
LOCATION:Raj zdravia\, Limbová 1A\, Bratislava - Nové Mesto\, Slovakia (Slovak Republic)
CATEGORIES:Joga a meditácia
ATTACH;FMTTYPE=image/png:https://bhaktimarga.sk/wp-content/uploads/2024/03/240323_AKY_A_FTW.png
ORGANIZER;CN="Avaari":MAILTO:avaari@bhaktimarga.sk
END:VEVENT
END:VCALENDAR